{"text_format":"1","workbook":"xlsx","n_sheets":3,"sheets":["Result","Match","Calculation"],"not_rendered":{"charts":0,"images":0,"macros":1,"external_links":0,"defined_names":0,"comments":0,"pivot_tables":0},"unopened":[],"bounds":{"document_bytes":16777216,"sheet_cells":100000,"rows_first":2000,"rows_last":500,"rows_between":2000,"halvings":0,"cell_chars":16384,"cell_head_chars":4096},"cells_cut":0,"cells_raw":0,"read":"whole","date_system":"1900"}

{"sheet":"Result","index":0,"n_rows":25,"n_cols":11,"rows_kept":25,"cut":false,"hidden":false,"merged":[[1,1,1,10]]}
[]
[null,"17-18Happy League積分表 18-04-2018"]
[]
[null,"球隊","以賽塲數","勝塲","和塲","負塲","得球","失球","積分","以編賽事","未編賽事"]
[null,"橋頭堡",15,14,1,0,48,6,43,0,2]
[null,"榮冠集團",13,12,1,0,49,8,37,2,2]
[null,"Exmen",11,8,0,3,26,16,24,1,5]
[null,"瑞通",14,7,2,5,35,30,23,1,2]
[null,"新組合",15,7,0,8,27,38,21,1,1]
[null,"杰誠",13,6,2,5,28,24,20,1,3]
[null,"港友聯",11,6,1,4,18,16,19,2,4]
[null,"最佳損友",13,5,4,4,21,18,19,2,2]
[null,"WTFC",11,6,0,5,26,21,18,2,4]
[null,"南晨",15,5,3,7,27,33,18,1,1]
[null,"Young L.",11,4,3,4,18,16,15,1,5]
[null,"FFC",14,4,2,8,22,24,14,2,1]
[null,"Dargon V.",12,3,2,7,20,30,11,1,4]
[null,"科聯",10,2,3,5,14,23,9,2,5]
[null,"離島之友",11,2,3,6,11,23,9,1,5]
[null,"Golden 11",15,1,3,11,17,43,6,0,2]
[null,"CPA",12,1,0,11,5,43,3,2,3]
[null,"R1",0,0,0,0,0,0,0,0,17]
[]
[]
["ZZZ"]

{"sheet":"Match","index":1,"n_rows":23,"n_cols":38,"rows_kept":23,"cut":false,"hidden":false,"merged":[[4,4,4,5],[4,2,4,3],[4,16,4,17],[4,14,4,15],[4,12,4,13],[4,10,4,11],[4,8,4,9],[4,6,4,7],[4,30,4,31],[4,32,4,33],[4,34,4,35],[4,36,4,37],[4,18,4,19],[4,28,4,29],[4,26,4,27],[4,24,4,25],[4,22,4,23],[4,20,4,21]]}
[]
[null,null,null,null,null,null,null,"No. of team: ",18,null,null,"X: 以編賽事",null,null,null,"?: 未編賽事"]
[null,"17-18Happy League 對賽表 06-06-2018"]
[]
[null,null,{"$f":"B6","v":"橋頭堡"},null,{"$f":"B7","v":"榮冠集團"},null,{"$f":"B8","v":"杰誠"},null,{"$f":"B9","v":"CPA"},null,{"$f":"B10","v":"港友聯"},null,{"$f":"B11","v":"Young L."},null,{"$f":"B12","v":"FFC"},null,{"$f":"B13","v":"Dargon V."},null,{"$f":"B14","v":"離島之友"},null,{"$f":"B15","v":"Golden 11"},null,{"$f":"B16","v":"南晨"},null,{"$f":"B17","v":"新組合"},null,{"$f":"B18","v":"瑞通"},null,{"$f":"B19","v":"最佳損友"},null,{"$f":"B20","v":"WTFC"},null,{"$f":"B21","v":"Exmen"},null,{"$f":"B22","v":"科聯"},null,{"$f":"B23","v":"R1"}]
["A","橋頭堡","/","/",3,2,1,0,2,1,2,0,3,1,3,0,4,2,3,0,4,0,3,0,3,0,6,0,2,2,3,0,3,0,6,0,"?","?"]
["B","榮冠集團","/","/","/","/",0,0,3,0,4,2,2,0,1,0,4,1,5,0,3,1,7,0,6,1,4,1,5,3,"x","x",6,0,3,1,"?","?"]
["C","杰誠","/","/","/","/","/","/",5,0,2,1,1,4,3,1,9,2,1,3,2,2,1,5,5,2,2,0,2,1,4,1,2,0,2,3,"?","?"]
["D","CPA","/","/","/","/","/","/","/","/",1,2,0,1,0,3,0,3,0,3,2,1,1,6,0,3,0,8,0,3,0,3,0,6,0,3,"?","?"]
["E","港友聯","/","/","/","/","/","/","/","/","/","/",3,2,4,2,0,1,1,1,0,1,2,0,2,0,3,2,0,3,0,3,0,3,0,0,"?","?"]
["F","Young L.","/","/","/","/","/","/","/","/","/","/","/","/",0,4,2,2,3,0,5,1,0,0,1,3,0,1,0,0,2,0,1,2,2,1,"?","?"]
["G","FFC","/","/","/","/","/","/","/","/","/","/","/","/","/","/",1,0,1,0,7,0,3,4,1,2,3,4,1,1,0,1,1,0,1,1,"?","?"]
["H","Dargon V.","/","/","/","/","/","/","/","/","/","/","/","/","/","/","/","/",0,1,2,2,4,6,1,4,4,3,2,1,3,1,0,3,"x","x","?","?"]
["I","離島之友","/","/","/","/","/","/","/","/","/","/","/","/","/","/","/","/","/","/",1,2,2,2,2,4,1,4,0,0,1,1,2,2,4,2,"?","?"]
["J","Golden 11","/","/","/","/","/","/","/","/","/","/","/","/","/","/","/","/","/","/","/","/",0,1,2,4,1,1,2,3,2,4,0,1,1,3,"?","?"]
["K","南晨","/","/","/","/","/","/","/","/","/","/","/","/","/","/","/","/","/","/","/","/","/","/",1,2,1,2,3,2,0,3,0,2,1,1,"?","?"]
["L","新組合","/","/","/","/","/","/","/","/","/","/","/","/","/","/","/","/","/","/","/","/","/","/","/","/",0,2,1,2,1,5,0,3,3,2,"?","?"]
["M","瑞通","/","/","/","/","/","/","/","/","/","/","/","/","/","/","/","/","/","/","/","/","/","/","/","/","/","/",2,0,3,2,2,4,1,1,"?","?"]
["N","最佳損友","/","/","/","/","/","/","/","/","/","/","/","/","/","/","/","/","/","/","/","/","/","/","/","/","/","/","/","/",2,1,1,2,1,0,"?","?"]
["O","WTFC","/","/","/","/","/","/","/","/","/","/","/","/","/","/","/","/","/","/","/","/","/","/","/","/","/","/","/","/","/","/",3,5,3,1,"?","?"]
["P","Exmen","/","/","/","/","/","/","/","/","/","/","/","/","/","/","/","/","/","/","/","/","/","/","/","/","/","/","/","/","/","/","/","/",1,0,"?","?"]
["Q","科聯","/","/","/","/","/","/","/","/","/","/","/","/","/","/","/","/","/","/","/","/","/","/","/","/","/","/","/","/","/","/","/","/","/","/","?","?"]
["R","R1","/","/","/","/","/","/","/","/","/","/","/","/","/","/","/","/","/","/","/","/","/","/","/","/","/","/","/","/","/","/","/","/","/","/","/","/"]

{"sheet":"Calculation","index":2,"n_rows":109,"n_cols":42,"rows_kept":109,"cut":false,"hidden":false,"merged":[[1,1,1,10],[89,26,89,27],[89,28,89,29],[3,17,3,18],[3,19,3,20],[3,21,3,22],[68,22,68,23],[68,24,68,25],[68,26,68,27],[68,28,68,29],[89,22,89,23],[89,24,89,25],[27,28,27,29],[47,22,47,23],[47,24,47,25],[47,26,47,27],[47,28,47,29],[89,2,89,3],[89,4,89,5],[89,6,89,7],[89,8,89,9],[89,10,89,11],[89,12,89,13],[89,14,89,15],[89,16,89,17],[89,18,89,19],[89,20,89,21],[68,12,68,13],[68,14,68,15],[68,16,68,17],[68,18,68,19],[68,20,68,21],[68,2,68,3],[68,4,68,5],[68,6,68,7],[68,8,68,9],[68,10,68,11],[47,2,47,3],[47,4,47,5],[47,6,47,7],[47,8,47,9],[47,10,47,11],[47,12,47,13],[47,14,47,15],[47,16,47,17],[47,18,47,19],[47,20,47,21],[27,18,27,19],[27,20,27,21],[27,22,27,23],[27,24,27,25],[27,26,27,27],[3,13,3,14],[3,15,3,16],[27,2,27,3],[27,4,27,5],[27,6,27,7],[27,8,27,9],[27,10,27,11],[27,12,27,13],[27,14,27,15],[27,16,27,17],[89,40,89,41],[68,40,68,41],[24,2,24,3],[24,4,24,5],[24,6,24,7],[24,8,24,9],[24,10,24,11],[24,12,24,13],[24,14,24,15],[24,16,24,17],[24,18,24,19],[24,20,24,21],[24,22,24,23],[24,24,24,25],[24,26,24,27],[24,28,24,29],[27,30,27,31],[27,32,27,33],[27,34,27,35],[27,36,27,37],[47,30,47,31],[47,32,47,33],[47,34,47,35],[47,36,47,37],[68,30,68,31],[68,32,68,33],[68,34,68,35],[68,36,68,37],[89,30,89,31],[89,32,89,33],[89,34,89,35],[89,36,89,37],[24,30,24,31],[24,32,24,33],[24,34,24,35],[24,36,24,37],[24,38,24,39]]}
[]
[null,{"$f":"Match!B3","v":"17-18Happy League 對賽表 06-06-2018"}]
[]
[null,"球隊","以賽塲數","勝塲","和塲","負塲","得球","失球","積分","以編賽事","未編賽事",null,null,"得球",null,"失球",null,"勝塲",null,"和塲",null,"負塲"]
[null,{"$f":"Match!B6","v":"橋頭堡"},{"$f":"Match!$I$2-1-Calculation!J5-Calculation!K5","v":16},{"$f":"AM29+AM49","v":15},{"$f":"AN29+AN49-J5-K5","v":1},{"$f":"C5-D5-E5","v":0},{"$f":"N5+O5","v":51},{"$f":"P5+Q5","v":8},{"$f":"D5*3+E5","v":46},{"$f":"AP70/2","v":0},{"$f":"AP91/2","v":1},null,"A",{"$f":"SUM(Match!E6,Match!G6,Match!I6,Match!K6,Match!M6,Match!O6,Match!Q6,Match!S6,Match!U6,Match!W6,Match!Y6,Match!AA6,Match!AC6,Match!AE6,Match!AG6,Match!AI6,Match!AK6)","v":51},{"$f":"D26","v":0},{"$f":"SUM(Match!F6,Match!H6,Match!J6,Match!L6,Match!N6,Match!P6,Match!R6,Match!T6,Match!V6,Match!X6,Match!Z6,Match!AB6,Match!AD6,Match!AF6,Match!AH6,Match!AJ6,Match!AK6)","v":8},{"$f":"C26","v":0},{"$f":"AM29","v":15},{"$f":"AM49","v":0},{"$f":"AN29","v":2},{"$f":"AN49","v":0}]
[null,{"$f":"Match!B7","v":"榮冠集團"},{"$f":"Match!$I$2-1-Calculation!J6-Calculation!K6","v":15},13,1,{"$f":"C6-D6-E6","v":1},{"$f":"N6+O6","v":55},{"$f":"P6+Q6","v":13},{"$f":"D6*3+E6","v":40},1,1,null,"B",{"$f":"SUM(Match!E7,Match!G7,Match!I7,Match!K7,Match!M7,Match!O7,Match!Q7,Match!S7,Match!U7,Match!W7,Match!Y7,Match!AA7,Match!AC7,Match!AE7,Match!AG7,Match!AI7,Match!AK7)","v":53},{"$f":"F26","v":2},{"$f":"SUM(Match!F7,Match!H7,Match!J7,Match!L7,Match!N7,Match!P7,Match!R7,Match!T7,Match!V7,Match!X7,Match!Z7,Match!AB7,Match!AD7,Match!AF7,Match!AH7,Match!AJ7,Match!AK7)","v":10},{"$f":"E26","v":3},13,0,3,0]
[null,{"$f":"Match!B8","v":"杰誠"},{"$f":"Match!$I$2-1-Calculation!J7-Calculation!K7","v":16},9,2,5,41,26,29,0,1,null,"C",{"$f":"SUM(Match!E8,Match!G8,Match!I8,Match!K8,Match!M8,Match!O8,Match!Q8,Match!S8,Match!U8,Match!W8,Match!Y8,Match!AA8,Match!AC8,Match!AE8,Match!AG8,Match!AI8,Match!AK8)","v":41},{"$f":"H26","v":0},{"$f":"SUM(Match!F8,Match!H8,Match!J8,Match!L8,Match!N8,Match!P8,Match!R8,Match!T8,Match!V8,Match!X8,Match!Z8,Match!AB8,Match!AD8,Match!AF8,Match!AH8,Match!AJ8,Match!AK8)","v":25},{"$f":"G26","v":1},9,0,2,1]
[null,{"$f":"Match!B9","v":"CPA"},{"$f":"Match!$I$2-1-Calculation!J8-Calculation!K8","v":16},1,0,15,5,55,3,0,1,null,"D",{"$f":"SUM(Match!E9,Match!G9,Match!I9,Match!K9,Match!M9,Match!O9,Match!Q9,Match!S9,Match!U9,Match!W9,Match!Y9,Match!AA9,Match!AC9,Match!AE9,Match!AG9,Match!AI9,Match!AK9)","v":4},{"$f":"J26","v":1},{"$f":"SUM(Match!F9,Match!H9,Match!J9,Match!L9,Match!N9,Match!P9,Match!R9,Match!T9,Match!V9,Match!X9,Match!Z9,Match!AB9,Match!AD9,Match!AF9,Match!AH9,Match!AJ9,Match!AK9)","v":45},{"$f":"I26","v":10},1,0,1,0]
[null,{"$f":"Match!B10","v":"港友聯"},{"$f":"Match!$I$2-1-Calculation!J9-Calculation!K9","v":16},6,2,8,20,27,20,0,1,null,"E",{"$f":"SUM(Match!E10,Match!G10,Match!I10,Match!K10,Match!M10,Match!O10,Match!Q10,Match!S10,Match!U10,Match!W10,Match!Y10,Match!AA10,Match!AC10,Match!AE10,Match!AG10,Match!AI10,Match!AK10)","v":15},{"$f":"L26","v":5},{"$f":"SUM(Match!F10,Match!H10,Match!J10,Match!L10,Match!N10,Match!P10,Match!R10,Match!T10,Match!V10,Match!X10,Match!Z10,Match!AB10,Match!AD10,Match!AF10,Match!AH10,Match!AJ10,Match!AK10)","v":18},{"$f":"K26","v":9},5,1,3,0]
[null,{"$f":"Match!B11","v":"Young L."},{"$f":"Match!$I$2-1-Calculation!J10-Calculation!K10","v":16},6,3,7,24,23,21,0,1,null,"F",{"$f":"SUM(Match!E11,Match!G11,Match!I11,Match!K11,Match!M11,Match!O11,Match!Q11,Match!S11,Match!U11,Match!W11,Match!Y11,Match!AA11,Match!AC11,Match!AE11,Match!AG11,Match!AI11,Match!AK11)","v":16},{"$f":"N26","v":8},{"$f":"SUM(Match!F11,Match!H11,Match!J11,Match!L11,Match!N11,Match!P11,Match!R11,Match!T11,Match!V11,Match!X11,Match!Z11,Match!AB11,Match!AD11,Match!AF11,Match!AH11,Match!AJ11,Match!AK11)","v":14},{"$f":"M26","v":9},4,2,4,0]
[null,{"$f":"Match!B12","v":"FFC"},{"$f":"Match!$I$2-1-Calculation!J11-Calculation!K11","v":16},6,2,8,29,24,20,0,1,null,"G",{"$f":"SUM(Match!E12,Match!G12,Match!I12,Match!K12,Match!M12,Match!O12,Match!Q12,Match!S12,Match!U12,Match!W12,Match!Y12,Match!AA12,Match!AC12,Match!AE12,Match!AG12,Match!AI12,Match!AK12)","v":19},{"$f":"P26","v":10},{"$f":"SUM(Match!F12,Match!H12,Match!J12,Match!L12,Match!N12,Match!P12,Match!R12,Match!T12,Match!V12,Match!X12,Match!Z12,Match!AB12,Match!AD12,Match!AF12,Match!AH12,Match!AJ12,Match!AK12)","v":13},{"$f":"O26","v":11},4,2,3,0]
[null,{"$f":"Match!B13","v":"Dargon V."},{"$f":"Match!$I$2-1-Calculation!J12-Calculation!K12","v":15},5,2,8,27,41,17,1,1,null,"H",{"$f":"SUM(Match!E13,Match!G13,Match!I13,Match!K13,Match!M13,Match!O13,Match!Q13,Match!S13,Match!U13,Match!W13,Match!Y13,Match!AA13,Match!AC13,Match!AE13,Match!AG13,Match!AI13,Match!AK13)","v":16},{"$f":"R26","v":11},{"$f":"SUM(Match!F13,Match!H13,Match!J13,Match!L13,Match!N13,Match!P13,Match!R13,Match!T13,Match!V13,Match!X13,Match!Z13,Match!AB13,Match!AD13,Match!AF13,Match!AH13,Match!AJ13,Match!AK13)","v":21},{"$f":"Q26","v":20},3,2,3,1]
[null,{"$f":"Match!B14","v":"離島之友"},{"$f":"Match!$I$2-1-Calculation!J13-Calculation!K13","v":16},4,5,7,21,31,17,0,1,null,"I",{"$f":"SUM(Match!E14,Match!G14,Match!I14,Match!K14,Match!M14,Match!O14,Match!Q14,Match!S14,Match!U14,Match!W14,Match!Y14,Match!AA14,Match!AC14,Match!AE14,Match!AG14,Match!AI14,Match!AK14)","v":13},{"$f":"T26","v":8},{"$f":"SUM(Match!F14,Match!H14,Match!J14,Match!L14,Match!N14,Match!P14,Match!R14,Match!T14,Match!V14,Match!X14,Match!Z14,Match!AB14,Match!AD14,Match!AF14,Match!AH14,Match!AJ14,Match!AK14)","v":17},{"$f":"S26","v":14},1,3,5,1]
[null,{"$f":"Match!B15","v":"Golden 11"},{"$f":"Match!$I$2-1-Calculation!J14-Calculation!K14","v":16},2,3,11,18,43,9,0,1,null,"J",{"$f":"SUM(Match!E15,Match!G15,Match!I15,Match!K15,Match!M15,Match!O15,Match!Q15,Match!S15,Match!U15,Match!W15,Match!Y15,Match!AA15,Match!AC15,Match!AE15,Match!AG15,Match!AI15,Match!AK15)","v":8},{"$f":"V26","v":10},{"$f":"SUM(Match!F15,Match!H15,Match!J15,Match!L15,Match!N15,Match!P15,Match!R15,Match!T15,Match!V15,Match!X15,Match!Z15,Match!AB15,Match!AD15,Match!AF15,Match!AH15,Match!AJ15,Match!AK15)","v":17},{"$f":"U26","v":26},0,2,2,2]
[null,{"$f":"Match!B16","v":"南晨"},{"$f":"Match!$I$2-1-Calculation!J15-Calculation!K15","v":16},6,3,7,30,35,21,0,1,null,"K",{"$f":"SUM(Match!E16,Match!G16,Match!I16,Match!K16,Match!M16,Match!O16,Match!Q16,Match!S16,Match!U16,Match!W16,Match!Y16,Match!AA16,Match!AC16,Match!AE16,Match!AG16,Match!AI16,Match!AK16)","v":6},{"$f":"X26","v":24},{"$f":"SUM(Match!F16,Match!H16,Match!J16,Match!L16,Match!N16,Match!P16,Match!R16,Match!T16,Match!V16,Match!X16,Match!Z16,Match!AB16,Match!AD16,Match!AF16,Match!AH16,Match!AJ16,Match!AK16)","v":12},{"$f":"W26","v":23},1,5,2,2]
[null,{"$f":"Match!B17","v":"新組合"},{"$f":"Match!$I$2-1-Calculation!J16-Calculation!K16","v":16},8,0,8,30,38,24,0,1,null,"L",{"$f":"SUM(Match!E17,Match!G17,Match!I17,Match!K17,Match!M17,Match!O17,Match!Q17,Match!S17,Match!U17,Match!W17,Match!Y17,Match!AA17,Match!AC17,Match!AE17,Match!AG17,Match!AI17,Match!AK17)","v":5},{"$f":"Z26","v":25},{"$f":"SUM(Match!F17,Match!H17,Match!J17,Match!L17,Match!N17,Match!P17,Match!R17,Match!T17,Match!V17,Match!X17,Match!Z17,Match!AB17,Match!AD17,Match!AF17,Match!AH17,Match!AJ17,Match!AK17)","v":14},{"$f":"Y26","v":24},1,7,1,0]
[null,{"$f":"Match!B18","v":"瑞通"},{"$f":"Match!$I$2-1-Calculation!J17-Calculation!K17","v":16},8,2,6,36,32,26,0,1,null,"M",{"$f":"SUM(Match!E18,Match!G18,Match!I18,Match!K18,Match!M18,Match!O18,Match!Q18,Match!S18,Match!U18,Match!W18,Match!Y18,Match!AA18,Match!AC18,Match!AE18,Match!AG18,Match!AI18,Match!AK18)","v":8},{"$f":"AB26","v":28},{"$f":"SUM(Match!F18,Match!H18,Match!J18,Match!L18,Match!N18,Match!P18,Match!R18,Match!T18,Match!V18,Match!X18,Match!Z18,Match!AB18,Match!AD18,Match!AF18,Match!AH18,Match!AJ18,Match!AK18)","v":7},{"$f":"AA26","v":25},2,6,2,1]
[null,{"$f":"Match!B19","v":"最佳損友"},{"$f":"Match!$I$2-1-Calculation!J18-Calculation!K18","v":16},6,4,6,25,23,22,0,1,null,"N",{"$f":"SUM(Match!E19,Match!G19,Match!I19,Match!K19,Match!M19,Match!O19,Match!Q19,Match!S19,Match!U19,Match!W19,Match!Y19,Match!AA19,Match!AC19,Match!AE19,Match!AG19,Match!AI19,Match!AK19)","v":4},{"$f":"AD26","v":21},{"$f":"SUM(Match!F19,Match!H19,Match!J19,Match!L19,Match!N19,Match!P19,Match!R19,Match!T19,Match!V19,Match!X19,Match!Z19,Match!AB19,Match!AD19,Match!AF19,Match!AH19,Match!AJ19,Match!AK19)","v":3},{"$f":"AC26","v":20},2,4,1,4]
[null,{"$f":"Match!B20","v":"WTFC"},{"$f":"Match!$I$2-1-Calculation!J19-Calculation!K19","v":15},{"$f":"AM43+AM63","v":7},{"$f":"AN43+AN63-J19-K19","v":1},{"$f":"C19-D19-E19","v":7},{"$f":"N19+O19","v":31},{"$f":"P19+Q19","v":27},{"$f":"D19*3+E19","v":22},{"$f":"AP84/2","v":1},{"$f":"AP105/2","v":1},null,"O",{"$f":"SUM(Match!E20,Match!G20,Match!I20,Match!K20,Match!M20,Match!O20,Match!Q20,Match!S20,Match!U20,Match!W20,Match!Y20,Match!AA20,Match!AC20,Match!AE20,Match!AG20,Match!AI20,Match!AK20)","v":6},{"$f":"AF26","v":25},{"$f":"SUM(Match!F20,Match!H20,Match!J20,Match!L20,Match!N20,Match!P20,Match!R20,Match!T20,Match!V20,Match!X20,Match!Z20,Match!AB20,Match!AD20,Match!AF20,Match!AH20,Match!AJ20,Match!AK20)","v":6},{"$f":"AE26","v":21},{"$f":"AM43","v":1},{"$f":"AM63","v":6},{"$f":"AN43","v":1},{"$f":"AN63","v":2}]
[null,{"$f":"Match!B21","v":"Exmen"},{"$f":"Match!$I$2-1-Calculation!J20-Calculation!K20","v":16},11,1,4,34,21,34,0,1,null,"P",{"$f":"SUM(Match!E21,Match!G21,Match!I21,Match!K21,Match!M21,Match!O21,Match!Q21,Match!S21,Match!U21,Match!W21,Match!Y21,Match!AA21,Match!AC21,Match!AE21,Match!AG21,Match!AI21,Match!AK21)","v":1},{"$f":"AH26","v":33},{"$f":"SUM(Match!F21,Match!H21,Match!J21,Match!L21,Match!N21,Match!P21,Match!R21,Match!T21,Match!V21,Match!X21,Match!Z21,Match!AB21,Match!AD21,Match!AF21,Match!AH21,Match!AJ21,Match!AK21)","v":0},{"$f":"AG26","v":21},1,10,1,1]
[null,{"$f":"Match!B22","v":"科聯"},{"$f":"Match!$I$2-1-Calculation!J21-Calculation!K21","v":15},3,4,8,19,29,13,1,1,null,"Q",{"$f":"SUM(Match!E22,Match!G22,Match!I22,Match!K22,Match!M22,Match!O22,Match!Q22,Match!S22,Match!U22,Match!W22,Match!Y22,Match!AA22,Match!AC22,Match!AE22,Match!AG22,Match!AI22,Match!AK22)","v":0},{"$f":"AJ26","v":19},{"$f":"SUM(Match!F22,Match!H22,Match!J22,Match!L22,Match!N22,Match!P22,Match!R22,Match!T22,Match!V22,Match!X22,Match!Z22,Match!AB22,Match!AD22,Match!AF22,Match!AH22,Match!AJ22,Match!AK22)","v":0},{"$f":"AI26","v":29},0,3,1,5]
[null,{"$f":"Match!B23","v":"R1"},{"$f":"Match!$I$2-1-Calculation!J22-Calculation!K22","v":0},0,0,0,0,0,0,0,17,null,"R",{"$f":"SUM(Match!E23,Match!G23,Match!I23,Match!K23,Match!M23,Match!O23,Match!Q23,Match!S23,Match!U23,Match!W23,Match!Y23,Match!AA23,Match!AC23,Match!AE23,Match!AG23,Match!AI23,Match!AK23)","v":0},{"$f":"AL26","v":0},{"$f":"SUM(Match!F23,Match!H23,Match!J23,Match!L23,Match!N23,Match!P23,Match!R23,Match!T23,Match!V23,Match!X23,Match!Z23,Match!AB23,Match!AD23,Match!AF23,Match!AH23,Match!AJ23,Match!AK23)","v":0},{"$f":"AK26","v":0},0,0,0,17]
[]
[]
[null,null,"A",null,"B",null,"C",null,"D",null,"E",null,"F",null,"G",null,"H",null,"I",null,"J",null,"K",null,"L",null,"M",null,"N",null,"O",null,"P",null,"Q",null,"R"]
[null,"得/失球",{"$f":"SUM(Match!C6:C23)","v":0},{"$f":"SUM(Match!D6:D23)","v":0},{"$f":"SUM(Match!E6:E23)","v":3},{"$f":"SUM(Match!F6:F23)","v":2},{"$f":"SUM(Match!G6:G23)","v":1},{"$f":"SUM(Match!H6:H23)","v":0},{"$f":"SUM(Match!I6:I23)","v":10},{"$f":"SUM(Match!J6:J23)","v":1},{"$f":"SUM(Match!K6:K23)","v":9},{"$f":"SUM(Match!L6:L23)","v":5},{"$f":"SUM(Match!M6:M23)","v":9},{"$f":"SUM(Match!N6:N23)","v":8},{"$f":"SUM(Match!O6:O23)","v":11},{"$f":"SUM(Match!P6:P23)","v":10},{"$f":"SUM(Match!Q6:Q23)","v":20},{"$f":"SUM(Match!R6:R23)","v":11},{"$f":"SUM(Match!S6:S23)","v":14},{"$f":"SUM(Match!T6:T23)","v":8},{"$f":"SUM(Match!U6:U23)","v":26},{"$f":"SUM(Match!V6:V23)","v":10},{"$f":"SUM(Match!W6:W23)","v":23},{"$f":"SUM(Match!X6:X23)","v":24},{"$f":"SUM(Match!Y6:Y23)","v":24},{"$f":"SUM(Match!Z6:Z23)","v":25},{"$f":"SUM(Match!AA6:AA23)","v":25},{"$f":"SUM(Match!AB6:AB23)","v":28},{"$f":"SUM(Match!AC6:AC23)","v":20},{"$f":"SUM(Match!AD6:AD23)","v":21},{"$f":"SUM(Match!AE6:AE23)","v":21},{"$f":"SUM(Match!AF6:AF23)","v":25},{"$f":"SUM(Match!AG6:AG23)","v":21},{"$f":"SUM(Match!AH6:AH23)","v":33},{"$f":"SUM(Match!AI6:AI23)","v":29},{"$f":"SUM(Match!AJ6:AJ23)","v":19},{"$f":"SUM(Match!AK6:AK23)","v":0},{"$f":"SUM(Match!AL6:AL23)","v":0}]
[]
[null,"橫計","A",null,"B",null,"C",null,"D",null,"E",null,"F",null,"G",null,"H",null,"I",null,"J",null,"K",null,"L",null,"M",null,"N",null,"O",null,"P",null,"Q",null,"R",null,"勝","和"]
[null,"A",{"$f":"IF(Match!C6>Match!D6,1,0)","v":0},null,{"$f":"IF(Match!E6>Match!F6,1,0)","v":1},{"$f":"IF(Match!E6=Match!F6,1,0)","v":0},{"$f":"IF(Match!G6>Match!H6,1,0)","v":1},{"$f":"IF(Match!G6=Match!H6,1,0)","v":0},{"$f":"IF(Match!I6>Match!J6,1,0)","v":1},{"$f":"IF(Match!I6=Match!J6,1,0)","v":0},{"$f":"IF(Match!K6>Match!L6,1,0)","v":1},{"$f":"IF(Match!K6=Match!L6,1,0)","v":0},{"$f":"IF(Match!M6>Match!N6,1,0)","v":1},{"$f":"IF(Match!M6=Match!N6,1,0)","v":0},{"$f":"IF(Match!O6>Match!P6,1,0)","v":1},{"$f":"IF(Match!O6=Match!P6,1,0)","v":0},{"$f":"IF(Match!Q6>Match!R6,1,0)","v":1},{"$f":"IF(Match!Q6=Match!R6,1,0)","v":0},{"$f":"IF(Match!S6>Match!T6,1,0)","v":1},{"$f":"IF(Match!S6=Match!T6,1,0)","v":0},{"$f":"IF(Match!U6>Match!V6,1,0)","v":1},{"$f":"IF(Match!U6=Match!V6,1,0)","v":0},{"$f":"IF(Match!W6>Match!X6,1,0)","v":1},{"$f":"IF(Match!W6=Match!X6,1,0)","v":0},{"$f":"IF(Match!Y6>Match!Z6,1,0)","v":1},{"$f":"IF(Match!Y6=Match!Z6,1,0)","v":0},{"$f":"IF(Match!AA6>Match!AB6,1,0)","v":1},{"$f":"IF(Match!AA6=Match!AB6,1,0)","v":0},{"$f":"IF(Match!AC6>Match!AD6,1,0)","v":0},{"$f":"IF(Match!AC6=Match!AD6,1,0)","v":1},{"$f":"IF(Match!AE6>Match!AF6,1,0)","v":1},{"$f":"IF(Match!AE6=Match!AF6,1,0)","v":0},{"$f":"IF(Match!AG6>Match!AH6,1,0)","v":1},{"$f":"IF(Match!AG6=Match!AH6,1,0)","v":0},{"$f":"IF(Match!AI6>Match!AJ6,1,0)","v":1},{"$f":"IF(Match!AI6=Match!AJ6,1,0)","v":0},{"$f":"IF(Match!AK6>Match!AL6,1,0)","v":0},{"$f":"IF(Match!AK6=Match!AL6,1,0)","v":1},{"$f":"C29+E29+G29+I29+K29+M29+O29+Q29+S29+U29+W29+Y29+AA29+AC29+AE29+AG29+AI29+AK29","v":15},{"$f":"D29+F29+H29+J29+L29+N29+P29+R29+T29+V29+X29+Z29+AB29+AD29+AF29+AH29+AJ29+AL29","v":2}]
[null,"B",{"$f":"IF(Match!C7>Match!D7,1,0)","v":0},null,{"$f":"IF(Match!E7>Match!F7,1,0)","v":0},null,{"$f":"IF(Match!G7>Match!H7,1,0)","v":0},{"$f":"IF(Match!G7=Match!H7,1,0)","v":1},{"$f":"IF(Match!I7>Match!J7,1,0)","v":1},{"$f":"IF(Match!I7=Match!J7,1,0)","v":0},{"$f":"IF(Match!K7>Match!L7,1,0)","v":1},{"$f":"IF(Match!K7=Match!L7,1,0)","v":0},{"$f":"IF(Match!M7>Match!N7,1,0)","v":1},{"$f":"IF(Match!M7=Match!N7,1,0)","v":0},{"$f":"IF(Match!O7>Match!P7,1,0)","v":1},{"$f":"IF(Match!O7=Match!P7,1,0)","v":0},{"$f":"IF(Match!Q7>Match!R7,1,0)","v":1},{"$f":"IF(Match!Q7=Match!R7,1,0)","v":0},{"$f":"IF(Match!S7>Match!T7,1,0)","v":1},{"$f":"IF(Match!S7=Match!T7,1,0)","v":0},{"$f":"IF(Match!U7>Match!V7,1,0)","v":1},{"$f":"IF(Match!U7=Match!V7,1,0)","v":0},{"$f":"IF(Match!W7>Match!X7,1,0)","v":1},{"$f":"IF(Match!W7=Match!X7,1,0)","v":0},{"$f":"IF(Match!Y7>Match!Z7,1,0)","v":1},{"$f":"IF(Match!Y7=Match!Z7,1,0)","v":0},{"$f":"IF(Match!AA7>Match!AB7,1,0)","v":1},{"$f":"IF(Match!AA7=Match!AB7,1,0)","v":0},{"$f":"IF(Match!AC7>Match!AD7,1,0)","v":1},{"$f":"IF(Match!AC7=Match!AD7,1,0)","v":0},{"$f":"IF(Match!AE7>Match!AF7,1,0)","v":0},{"$f":"IF(Match!AE7=Match!AF7,1,0)","v":1},{"$f":"IF(Match!AG7>Match!AH7,1,0)","v":1},{"$f":"IF(Match!AG7=Match!AH7,1,0)","v":0},{"$f":"IF(Match!AI7>Match!AJ7,1,0)","v":1},{"$f":"IF(Match!AI7=Match!AJ7,1,0)","v":0},{"$f":"IF(Match!AK7>Match!AL7,1,0)","v":0},{"$f":"IF(Match!AK7=Match!AL7,1,0)","v":1},{"$f":"C30+E30+G30+I30+K30+M30+O30+Q30+S30+U30+W30+Y30+AA30+AC30+AE30+AG30+AI30+AK30","v":13},{"$f":"D30+F30+H30+J30+L30+N30+P30+R30+T30+V30+X30+Z30+AB30+AD30+AF30+AH30+AJ30+AL30","v":3}]
[null,"C",{"$f":"IF(Match!C8>Match!D8,1,0)","v":0},null,{"$f":"IF(Match!E8>Match!F8,1,0)","v":0},null,{"$f":"IF(Match!G8>Match!H8,1,0)","v":0},null,{"$f":"IF(Match!I8>Match!J8,1,0)","v":1},{"$f":"IF(Match!I8=Match!J8,1,0)","v":0},{"$f":"IF(Match!K8>Match!L8,1,0)","v":1},{"$f":"IF(Match!K8=Match!L8,1,0)","v":0},{"$f":"IF(Match!M8>Match!N8,1,0)","v":0},{"$f":"IF(Match!M8=Match!N8,1,0)","v":0},{"$f":"IF(Match!O8>Match!P8,1,0)","v":1},{"$f":"IF(Match!O8=Match!P8,1,0)","v":0},{"$f":"IF(Match!Q8>Match!R8,1,0)","v":1},{"$f":"IF(Match!Q8=Match!R8,1,0)","v":0},{"$f":"IF(Match!S8>Match!T8,1,0)","v":0},{"$f":"IF(Match!S8=Match!T8,1,0)","v":0},{"$f":"IF(Match!U8>Match!V8,1,0)","v":0},{"$f":"IF(Match!U8=Match!V8,1,0)","v":1},{"$f":"IF(Match!W8>Match!X8,1,0)","v":0},{"$f":"IF(Match!W8=Match!X8,1,0)","v":0},{"$f":"IF(Match!Y8>Match!Z8,1,0)","v":1},{"$f":"IF(Match!Y8=Match!Z8,1,0)","v":0},{"$f":"IF(Match!AA8>Match!AB8,1,0)","v":1},{"$f":"IF(Match!AA8=Match!AB8,1,0)","v":0},{"$f":"IF(Match!AC8>Match!AD8,1,0)","v":1},{"$f":"IF(Match!AC8=Match!AD8,1,0)","v":0},{"$f":"IF(Match!AE8>Match!AF8,1,0)","v":1},{"$f":"IF(Match!AE8=Match!AF8,1,0)","v":0},{"$f":"IF(Match!AG8>Match!AH8,1,0)","v":1},{"$f":"IF(Match!AG8=Match!AH8,1,0)","v":0},{"$f":"IF(Match!AI8>Match!AJ8,1,0)","v":0},{"$f":"IF(Match!AI8=Match!AJ8,1,0)","v":0},{"$f":"IF(Match!AK8>Match!AL8,1,0)","v":0},{"$f":"IF(Match!AK8=Match!AL8,1,0)","v":1},9,2]
[null,"D",{"$f":"IF(Match!C9>Match!D9,1,0)","v":0},null,{"$f":"IF(Match!E9>Match!F9,1,0)","v":0},null,{"$f":"IF(Match!G9>Match!H9,1,0)","v":0},null,{"$f":"IF(Match!I9>Match!J9,1,0)","v":0},null,{"$f":"IF(Match!K9>Match!L9,1,0)","v":0},{"$f":"IF(Match!K9=Match!L9,1,0)","v":0},{"$f":"IF(Match!M9>Match!N9,1,0)","v":0},{"$f":"IF(Match!M9=Match!N9,1,0)","v":0},{"$f":"IF(Match!O9>Match!P9,1,0)","v":0},{"$f":"IF(Match!O9=Match!P9,1,0)","v":0},{"$f":"IF(Match!Q9>Match!R9,1,0)","v":0},{"$f":"IF(Match!Q9=Match!R9,1,0)","v":0},{"$f":"IF(Match!S9>Match!T9,1,0)","v":0},{"$f":"IF(Match!S9=Match!T9,1,0)","v":0},{"$f":"IF(Match!U9>Match!V9,1,0)","v":1},{"$f":"IF(Match!U9=Match!V9,1,0)","v":0},{"$f":"IF(Match!W9>Match!X9,1,0)","v":0},{"$f":"IF(Match!W9=Match!X9,1,0)","v":0},{"$f":"IF(Match!Y9>Match!Z9,1,0)","v":0},{"$f":"IF(Match!Y9=Match!Z9,1,0)","v":0},{"$f":"IF(Match!AA9>Match!AB9,1,0)","v":0},{"$f":"IF(Match!AA9=Match!AB9,1,0)","v":0},{"$f":"IF(Match!AC9>Match!AD9,1,0)","v":0},{"$f":"IF(Match!AC9=Match!AD9,1,0)","v":0},{"$f":"IF(Match!AE9>Match!AF9,1,0)","v":0},{"$f":"IF(Match!AE9=Match!AF9,1,0)","v":0},{"$f":"IF(Match!AG9>Match!AH9,1,0)","v":0},{"$f":"IF(Match!AG9=Match!AH9,1,0)","v":0},{"$f":"IF(Match!AI9>Match!AJ9,1,0)","v":0},{"$f":"IF(Match!AI9=Match!AJ9,1,0)","v":0},{"$f":"IF(Match!AK9>Match!AL9,1,0)","v":0},{"$f":"IF(Match!AK9=Match!AL9,1,0)","v":1},1,1]
[null,"E",{"$f":"IF(Match!C10>Match!D10,1,0)","v":0},null,{"$f":"IF(Match!E10>Match!F10,1,0)","v":0},null,{"$f":"IF(Match!G10>Match!H10,1,0)","v":0},null,{"$f":"IF(Match!I10>Match!J10,1,0)","v":0},null,{"$f":"IF(Match!K10>Match!L10,1,0)","v":0},null,{"$f":"IF(Match!M10>Match!N10,1,0)","v":1},{"$f":"IF(Match!M10=Match!N10,1,0)","v":0},{"$f":"IF(Match!O10>Match!P10,1,0)","v":1},{"$f":"IF(Match!O10=Match!P10,1,0)","v":0},{"$f":"IF(Match!Q10>Match!R10,1,0)","v":0},{"$f":"IF(Match!Q10=Match!R10,1,0)","v":0},{"$f":"IF(Match!S10>Match!T10,1,0)","v":0},{"$f":"IF(Match!S10=Match!T10,1,0)","v":1},{"$f":"IF(Match!U10>Match!V10,1,0)","v":0},{"$f":"IF(Match!U10=Match!V10,1,0)","v":0},{"$f":"IF(Match!W10>Match!X10,1,0)","v":1},{"$f":"IF(Match!W10=Match!X10,1,0)","v":0},{"$f":"IF(Match!Y10>Match!Z10,1,0)","v":1},{"$f":"IF(Match!Y10=Match!Z10,1,0)","v":0},{"$f":"IF(Match!AA10>Match!AB10,1,0)","v":1},{"$f":"IF(Match!AA10=Match!AB10,1,0)","v":0},{"$f":"IF(Match!AC10>Match!AD10,1,0)","v":0},{"$f":"IF(Match!AC10=Match!AD10,1,0)","v":0},{"$f":"IF(Match!AE10>Match!AF10,1,0)","v":0},{"$f":"IF(Match!AE10=Match!AF10,1,0)","v":0},{"$f":"IF(Match!AG10>Match!AH10,1,0)","v":0},{"$f":"IF(Match!AG10=Match!AH10,1,0)","v":0},{"$f":"IF(Match!AI10>Match!AJ10,1,0)","v":0},{"$f":"IF(Match!AI10=Match!AJ10,1,0)","v":1},{"$f":"IF(Match!AK10>Match!AL10,1,0)","v":0},{"$f":"IF(Match!AK10=Match!AL10,1,0)","v":1},5,3]
[null,"F",{"$f":"IF(Match!C11>Match!D11,1,0)","v":0},null,{"$f":"IF(Match!E11>Match!F11,1,0)","v":0},null,{"$f":"IF(Match!G11>Match!H11,1,0)","v":0},null,{"$f":"IF(Match!I11>Match!J11,1,0)","v":0},null,{"$f":"IF(Match!K11>Match!L11,1,0)","v":0},null,{"$f":"IF(Match!M11>Match!N11,1,0)","v":0},null,{"$f":"IF(Match!O11>Match!P11,1,0)","v":0},{"$f":"IF(Match!O11=Match!P11,1,0)","v":0},{"$f":"IF(Match!Q11>Match!R11,1,0)","v":0},{"$f":"IF(Match!Q11=Match!R11,1,0)","v":1},{"$f":"IF(Match!S11>Match!T11,1,0)","v":1},{"$f":"IF(Match!S11=Match!T11,1,0)","v":0},{"$f":"IF(Match!U11>Match!V11,1,0)","v":1},{"$f":"IF(Match!U11=Match!V11,1,0)","v":0},{"$f":"IF(Match!W11>Match!X11,1,0)","v":0},{"$f":"IF(Match!W11=Match!X11,1,0)","v":1},{"$f":"IF(Match!Y11>Match!Z11,1,0)","v":0},{"$f":"IF(Match!Y11=Match!Z11,1,0)","v":0},{"$f":"IF(Match!AA11>Match!AB11,1,0)","v":0},{"$f":"IF(Match!AA11=Match!AB11,1,0)","v":0},{"$f":"IF(Match!AC11>Match!AD11,1,0)","v":0},{"$f":"IF(Match!AC11=Match!AD11,1,0)","v":1},{"$f":"IF(Match!AE11>Match!AF11,1,0)","v":1},{"$f":"IF(Match!AE11=Match!AF11,1,0)","v":0},{"$f":"IF(Match!AG11>Match!AH11,1,0)","v":0},{"$f":"IF(Match!AG11=Match!AH11,1,0)","v":0},{"$f":"IF(Match!AI11>Match!AJ11,1,0)","v":1},{"$f":"IF(Match!AI11=Match!AJ11,1,0)","v":0},{"$f":"IF(Match!AK11>Match!AL11,1,0)","v":0},{"$f":"IF(Match!AK11=Match!AL11,1,0)","v":1},4,4]
[null,"G",{"$f":"IF(Match!C12>Match!D12,1,0)","v":0},null,{"$f":"IF(Match!E12>Match!F12,1,0)","v":0},null,{"$f":"IF(Match!G12>Match!H12,1,0)","v":0},null,{"$f":"IF(Match!I12>Match!J12,1,0)","v":0},null,{"$f":"IF(Match!K12>Match!L12,1,0)","v":0},null,{"$f":"IF(Match!M12>Match!N12,1,0)","v":0},null,{"$f":"IF(Match!O12>Match!P12,1,0)","v":0},null,{"$f":"IF(Match!Q12>Match!R12,1,0)","v":1},{"$f":"IF(Match!Q12=Match!R12,1,0)","v":0},{"$f":"IF(Match!S12>Match!T12,1,0)","v":1},{"$f":"IF(Match!S12=Match!T12,1,0)","v":0},{"$f":"IF(Match!U12>Match!V12,1,0)","v":1},{"$f":"IF(Match!U12=Match!V12,1,0)","v":0},{"$f":"IF(Match!W12>Match!X12,1,0)","v":0},{"$f":"IF(Match!W12=Match!X12,1,0)","v":0},{"$f":"IF(Match!Y12>Match!Z12,1,0)","v":0},{"$f":"IF(Match!Y12=Match!Z12,1,0)","v":0},{"$f":"IF(Match!AA12>Match!AB12,1,0)","v":0},{"$f":"IF(Match!AA12=Match!AB12,1,0)","v":0},{"$f":"IF(Match!AC12>Match!AD12,1,0)","v":0},{"$f":"IF(Match!AC12=Match!AD12,1,0)","v":1},{"$f":"IF(Match!AE12>Match!AF12,1,0)","v":0},{"$f":"IF(Match!AE12=Match!AF12,1,0)","v":0},{"$f":"IF(Match!AG12>Match!AH12,1,0)","v":1},{"$f":"IF(Match!AG12=Match!AH12,1,0)","v":0},{"$f":"IF(Match!AI12>Match!AJ12,1,0)","v":0},{"$f":"IF(Match!AI12=Match!AJ12,1,0)","v":1},{"$f":"IF(Match!AK12>Match!AL12,1,0)","v":0},{"$f":"IF(Match!AK12=Match!AL12,1,0)","v":1},4,3]
[null,"H",{"$f":"IF(Match!C13>Match!D13,1,0)","v":0},null,{"$f":"IF(Match!E13>Match!F13,1,0)","v":0},null,{"$f":"IF(Match!G13>Match!H13,1,0)","v":0},null,{"$f":"IF(Match!I13>Match!J13,1,0)","v":0},null,{"$f":"IF(Match!K13>Match!L13,1,0)","v":0},null,{"$f":"IF(Match!M13>Match!N13,1,0)","v":0},null,{"$f":"IF(Match!O13>Match!P13,1,0)","v":0},null,{"$f":"IF(Match!Q13>Match!R13,1,0)","v":0},null,{"$f":"IF(Match!S13>Match!T13,1,0)","v":0},{"$f":"IF(Match!S13=Match!T13,1,0)","v":0},{"$f":"IF(Match!U13>Match!V13,1,0)","v":0},{"$f":"IF(Match!U13=Match!V13,1,0)","v":1},{"$f":"IF(Match!W13>Match!X13,1,0)","v":0},{"$f":"IF(Match!W13=Match!X13,1,0)","v":0},{"$f":"IF(Match!Y13>Match!Z13,1,0)","v":0},{"$f":"IF(Match!Y13=Match!Z13,1,0)","v":0},{"$f":"IF(Match!AA13>Match!AB13,1,0)","v":1},{"$f":"IF(Match!AA13=Match!AB13,1,0)","v":0},{"$f":"IF(Match!AC13>Match!AD13,1,0)","v":1},{"$f":"IF(Match!AC13=Match!AD13,1,0)","v":0},{"$f":"IF(Match!AE13>Match!AF13,1,0)","v":1},{"$f":"IF(Match!AE13=Match!AF13,1,0)","v":0},{"$f":"IF(Match!AG13>Match!AH13,1,0)","v":0},{"$f":"IF(Match!AG13=Match!AH13,1,0)","v":0},{"$f":"IF(Match!AI13>Match!AJ13,1,0)","v":0},{"$f":"IF(Match!AI13=Match!AJ13,1,0)","v":1},{"$f":"IF(Match!AK13>Match!AL13,1,0)","v":0},{"$f":"IF(Match!AK13=Match!AL13,1,0)","v":1},3,3]
[null,"I",{"$f":"IF(Match!C14>Match!D14,1,0)","v":0},null,{"$f":"IF(Match!E14>Match!F14,1,0)","v":0},null,{"$f":"IF(Match!G14>Match!H14,1,0)","v":0},null,{"$f":"IF(Match!I14>Match!J14,1,0)","v":0},null,{"$f":"IF(Match!K14>Match!L14,1,0)","v":0},null,{"$f":"IF(Match!M14>Match!N14,1,0)","v":0},null,{"$f":"IF(Match!O14>Match!P14,1,0)","v":0},null,{"$f":"IF(Match!Q14>Match!R14,1,0)","v":0},null,{"$f":"IF(Match!S14>Match!T14,1,0)","v":0},null,{"$f":"IF(Match!U14>Match!V14,1,0)","v":0},{"$f":"IF(Match!U14=Match!V14,1,0)","v":0},{"$f":"IF(Match!W14>Match!X14,1,0)","v":0},{"$f":"IF(Match!W14=Match!X14,1,0)","v":1},{"$f":"IF(Match!Y14>Match!Z14,1,0)","v":0},{"$f":"IF(Match!Y14=Match!Z14,1,0)","v":0},{"$f":"IF(Match!AA14>Match!AB14,1,0)","v":0},{"$f":"IF(Match!AA14=Match!AB14,1,0)","v":0},{"$f":"IF(Match!AC14>Match!AD14,1,0)","v":0},{"$f":"IF(Match!AC14=Match!AD14,1,0)","v":1},{"$f":"IF(Match!AE14>Match!AF14,1,0)","v":0},{"$f":"IF(Match!AE14=Match!AF14,1,0)","v":1},{"$f":"IF(Match!AG14>Match!AH14,1,0)","v":0},{"$f":"IF(Match!AG14=Match!AH14,1,0)","v":1},{"$f":"IF(Match!AI14>Match!AJ14,1,0)","v":1},{"$f":"IF(Match!AI14=Match!AJ14,1,0)","v":0},{"$f":"IF(Match!AK14>Match!AL14,1,0)","v":0},{"$f":"IF(Match!AK14=Match!AL14,1,0)","v":1},1,5]
[null,"J",{"$f":"IF(Match!C15>Match!D15,1,0)","v":0},null,{"$f":"IF(Match!E15>Match!F15,1,0)","v":0},null,{"$f":"IF(Match!G15>Match!H15,1,0)","v":0},null,{"$f":"IF(Match!I15>Match!J15,1,0)","v":0},null,{"$f":"IF(Match!K15>Match!L15,1,0)","v":0},null,{"$f":"IF(Match!M15>Match!N15,1,0)","v":0},null,{"$f":"IF(Match!O15>Match!P15,1,0)","v":0},null,{"$f":"IF(Match!Q15>Match!R15,1,0)","v":0},null,{"$f":"IF(Match!S15>Match!T15,1,0)","v":0},null,{"$f":"IF(Match!U15>Match!V15,1,0)","v":0},null,{"$f":"IF(Match!W15>Match!X15,1,0)","v":0},{"$f":"IF(Match!W15=Match!X15,1,0)","v":0},{"$f":"IF(Match!Y15>Match!Z15,1,0)","v":0},{"$f":"IF(Match!Y15=Match!Z15,1,0)","v":0},{"$f":"IF(Match!AA15>Match!AB15,1,0)","v":0},{"$f":"IF(Match!AA15=Match!AB15,1,0)","v":1},{"$f":"IF(Match!AC15>Match!AD15,1,0)","v":0},{"$f":"IF(Match!AC15=Match!AD15,1,0)","v":0},{"$f":"IF(Match!AE15>Match!AF15,1,0)","v":0},{"$f":"IF(Match!AE15=Match!AF15,1,0)","v":0},{"$f":"IF(Match!AG15>Match!AH15,1,0)","v":0},{"$f":"IF(Match!AG15=Match!AH15,1,0)","v":0},{"$f":"IF(Match!AI15>Match!AJ15,1,0)","v":0},{"$f":"IF(Match!AI15=Match!AJ15,1,0)","v":0},{"$f":"IF(Match!AK15>Match!AL15,1,0)","v":0},{"$f":"IF(Match!AK15=Match!AL15,1,0)","v":1},0,2]
[null,"K",{"$f":"IF(Match!C16>Match!D16,1,0)","v":0},null,{"$f":"IF(Match!E16>Match!F16,1,0)","v":0},null,{"$f":"IF(Match!G16>Match!H16,1,0)","v":0},null,{"$f":"IF(Match!I16>Match!J16,1,0)","v":0},null,{"$f":"IF(Match!K16>Match!L16,1,0)","v":0},null,{"$f":"IF(Match!M16>Match!N16,1,0)","v":0},null,{"$f":"IF(Match!O16>Match!P16,1,0)","v":0},null,{"$f":"IF(Match!Q16>Match!R16,1,0)","v":0},null,{"$f":"IF(Match!S16>Match!T16,1,0)","v":0},null,{"$f":"IF(Match!U16>Match!V16,1,0)","v":0},null,{"$f":"IF(Match!W16>Match!X16,1,0)","v":0},null,{"$f":"IF(Match!Y16>Match!Z16,1,0)","v":0},{"$f":"IF(Match!Y16=Match!Z16,1,0)","v":0},{"$f":"IF(Match!AA16>Match!AB16,1,0)","v":0},{"$f":"IF(Match!AA16=Match!AB16,1,0)","v":0},{"$f":"IF(Match!AC16>Match!AD16,1,0)","v":1},{"$f":"IF(Match!AC16=Match!AD16,1,0)","v":0},{"$f":"IF(Match!AE16>Match!AF16,1,0)","v":0},{"$f":"IF(Match!AE16=Match!AF16,1,0)","v":0},{"$f":"IF(Match!AG16>Match!AH16,1,0)","v":0},{"$f":"IF(Match!AG16=Match!AH16,1,0)","v":0},{"$f":"IF(Match!AI16>Match!AJ16,1,0)","v":0},{"$f":"IF(Match!AI16=Match!AJ16,1,0)","v":1},{"$f":"IF(Match!AK16>Match!AL16,1,0)","v":0},{"$f":"IF(Match!AK16=Match!AL16,1,0)","v":1},1,2]
[null,"L",{"$f":"IF(Match!C17>Match!D17,1,0)","v":0},null,{"$f":"IF(Match!E17>Match!F17,1,0)","v":0},null,{"$f":"IF(Match!G17>Match!H17,1,0)","v":0},null,{"$f":"IF(Match!I17>Match!J17,1,0)","v":0},null,{"$f":"IF(Match!K17>Match!L17,1,0)","v":0},null,{"$f":"IF(Match!M17>Match!N17,1,0)","v":0},null,{"$f":"IF(Match!O17>Match!P17,1,0)","v":0},null,{"$f":"IF(Match!Q17>Match!R17,1,0)","v":0},null,{"$f":"IF(Match!S17>Match!T17,1,0)","v":0},null,{"$f":"IF(Match!U17>Match!V17,1,0)","v":0},null,{"$f":"IF(Match!W17>Match!X17,1,0)","v":0},null,{"$f":"IF(Match!Y17>Match!Z17,1,0)","v":0},null,{"$f":"IF(Match!AA17>Match!AB17,1,0)","v":0},{"$f":"IF(Match!AA17=Match!AB17,1,0)","v":0},{"$f":"IF(Match!AC17>Match!AD17,1,0)","v":0},{"$f":"IF(Match!AC17=Match!AD17,1,0)","v":0},{"$f":"IF(Match!AE17>Match!AF17,1,0)","v":0},{"$f":"IF(Match!AE17=Match!AF17,1,0)","v":0},{"$f":"IF(Match!AG17>Match!AH17,1,0)","v":0},{"$f":"IF(Match!AG17=Match!AH17,1,0)","v":0},{"$f":"IF(Match!AI17>Match!AJ17,1,0)","v":1},{"$f":"IF(Match!AI17=Match!AJ17,1,0)","v":0},{"$f":"IF(Match!AK17>Match!AL17,1,0)","v":0},{"$f":"IF(Match!AK17=Match!AL17,1,0)","v":1},1,1]
[null,"M",{"$f":"IF(Match!C18>Match!D18,1,0)","v":0},null,{"$f":"IF(Match!E18>Match!F18,1,0)","v":0},null,{"$f":"IF(Match!G18>Match!H18,1,0)","v":0},null,{"$f":"IF(Match!I18>Match!J18,1,0)","v":0},null,{"$f":"IF(Match!K18>Match!L18,1,0)","v":0},null,{"$f":"IF(Match!M18>Match!N18,1,0)","v":0},null,{"$f":"IF(Match!O18>Match!P18,1,0)","v":0},null,{"$f":"IF(Match!Q18>Match!R18,1,0)","v":0},null,{"$f":"IF(Match!S18>Match!T18,1,0)","v":0},null,{"$f":"IF(Match!U18>Match!V18,1,0)","v":0},null,{"$f":"IF(Match!W18>Match!X18,1,0)","v":0},null,{"$f":"IF(Match!Y18>Match!Z18,1,0)","v":0},null,{"$f":"IF(Match!AA18>Match!AB18,1,0)","v":0},null,{"$f":"IF(Match!AC18>Match!AD18,1,0)","v":1},{"$f":"IF(Match!AC18=Match!AD18,1,0)","v":0},{"$f":"IF(Match!AE18>Match!AF18,1,0)","v":1},{"$f":"IF(Match!AE18=Match!AF18,1,0)","v":0},{"$f":"IF(Match!AG18>Match!AH18,1,0)","v":0},{"$f":"IF(Match!AG18=Match!AH18,1,0)","v":0},{"$f":"IF(Match!AI18>Match!AJ18,1,0)","v":0},{"$f":"IF(Match!AI18=Match!AJ18,1,0)","v":1},{"$f":"IF(Match!AK18>Match!AL18,1,0)","v":0},{"$f":"IF(Match!AK18=Match!AL18,1,0)","v":1},2,2]
[null,"N",{"$f":"IF(Match!C19>Match!D19,1,0)","v":0},null,{"$f":"IF(Match!E19>Match!F19,1,0)","v":0},null,{"$f":"IF(Match!G19>Match!H19,1,0)","v":0},null,{"$f":"IF(Match!I19>Match!J19,1,0)","v":0},null,{"$f":"IF(Match!K19>Match!L19,1,0)","v":0},null,{"$f":"IF(Match!M19>Match!N19,1,0)","v":0},null,{"$f":"IF(Match!O19>Match!P19,1,0)","v":0},null,{"$f":"IF(Match!Q19>Match!R19,1,0)","v":0},null,{"$f":"IF(Match!S19>Match!T19,1,0)","v":0},null,{"$f":"IF(Match!U19>Match!V19,1,0)","v":0},null,{"$f":"IF(Match!W19>Match!X19,1,0)","v":0},null,{"$f":"IF(Match!Y19>Match!Z19,1,0)","v":0},null,{"$f":"IF(Match!AA19>Match!AB19,1,0)","v":0},null,{"$f":"IF(Match!AC19>Match!AD19,1,0)","v":0},null,{"$f":"IF(Match!AE19>Match!AF19,1,0)","v":1},{"$f":"IF(Match!AE19=Match!AF19,1,0)","v":0},{"$f":"IF(Match!AG19>Match!AH19,1,0)","v":0},{"$f":"IF(Match!AG19=Match!AH19,1,0)","v":0},{"$f":"IF(Match!AI19>Match!AJ19,1,0)","v":1},{"$f":"IF(Match!AI19=Match!AJ19,1,0)","v":0},{"$f":"IF(Match!AK19>Match!AL19,1,0)","v":0},{"$f":"IF(Match!AK19=Match!AL19,1,0)","v":1},2,1]
[null,"O",{"$f":"IF(Match!C20>Match!D20,1,0)","v":0},null,{"$f":"IF(Match!E20>Match!F20,1,0)","v":0},null,{"$f":"IF(Match!G20>Match!H20,1,0)","v":0},null,{"$f":"IF(Match!I20>Match!J20,1,0)","v":0},null,{"$f":"IF(Match!K20>Match!L20,1,0)","v":0},null,{"$f":"IF(Match!M20>Match!N20,1,0)","v":0},null,{"$f":"IF(Match!O20>Match!P20,1,0)","v":0},null,{"$f":"IF(Match!Q20>Match!R20,1,0)","v":0},null,{"$f":"IF(Match!S20>Match!T20,1,0)","v":0},null,{"$f":"IF(Match!U20>Match!V20,1,0)","v":0},null,{"$f":"IF(Match!W20>Match!X20,1,0)","v":0},null,{"$f":"IF(Match!Y20>Match!Z20,1,0)","v":0},null,{"$f":"IF(Match!AA20>Match!AB20,1,0)","v":0},null,{"$f":"IF(Match!AC20>Match!AD20,1,0)","v":0},null,{"$f":"IF(Match!AE20>Match!AF20,1,0)","v":0},null,{"$f":"IF(Match!AG20>Match!AH20,1,0)","v":0},{"$f":"IF(Match!AG20=Match!AH20,1,0)","v":0},{"$f":"IF(Match!AI20>Match!AJ20,1,0)","v":1},{"$f":"IF(Match!AI20=Match!AJ20,1,0)","v":0},{"$f":"IF(Match!AK20>Match!AL20,1,0)","v":0},{"$f":"IF(Match!AK20=Match!AL20,1,0)","v":1},1,1]
[null,"P",{"$f":"IF(Match!C21>Match!D21,1,0)","v":0},null,{"$f":"IF(Match!E21>Match!F21,1,0)","v":0},null,{"$f":"IF(Match!G21>Match!H21,1,0)","v":0},null,{"$f":"IF(Match!I21>Match!J21,1,0)","v":0},null,{"$f":"IF(Match!K21>Match!L21,1,0)","v":0},null,{"$f":"IF(Match!M21>Match!N21,1,0)","v":0},null,{"$f":"IF(Match!O21>Match!P21,1,0)","v":0},null,{"$f":"IF(Match!Q21>Match!R21,1,0)","v":0},null,{"$f":"IF(Match!S21>Match!T21,1,0)","v":0},null,{"$f":"IF(Match!U21>Match!V21,1,0)","v":0},null,{"$f":"IF(Match!W21>Match!X21,1,0)","v":0},null,{"$f":"IF(Match!Y21>Match!Z21,1,0)","v":0},null,{"$f":"IF(Match!AA21>Match!AB21,1,0)","v":0},null,{"$f":"IF(Match!AC21>Match!AD21,1,0)","v":0},null,{"$f":"IF(Match!AE21>Match!AF21,1,0)","v":0},null,{"$f":"IF(Match!AG21>Match!AH21,1,0)","v":0},null,{"$f":"IF(Match!AI21>Match!AJ21,1,0)","v":1},{"$f":"IF(Match!AI21=Match!AJ21,1,0)","v":0},{"$f":"IF(Match!AK21>Match!AL21,1,0)","v":0},{"$f":"IF(Match!AK21=Match!AL21,1,0)","v":1},1,1]
[null,"Q",{"$f":"IF(Match!C22>Match!D22,1,0)","v":0},null,{"$f":"IF(Match!E22>Match!F22,1,0)","v":0},null,{"$f":"IF(Match!G22>Match!H22,1,0)","v":0},null,{"$f":"IF(Match!I22>Match!J22,1,0)","v":0},null,{"$f":"IF(Match!K22>Match!L22,1,0)","v":0},null,{"$f":"IF(Match!M22>Match!N22,1,0)","v":0},null,{"$f":"IF(Match!O22>Match!P22,1,0)","v":0},null,{"$f":"IF(Match!Q22>Match!R22,1,0)","v":0},null,{"$f":"IF(Match!S22>Match!T22,1,0)","v":0},null,{"$f":"IF(Match!U22>Match!V22,1,0)","v":0},null,{"$f":"IF(Match!W22>Match!X22,1,0)","v":0},null,{"$f":"IF(Match!Y22>Match!Z22,1,0)","v":0},null,{"$f":"IF(Match!AA22>Match!AB22,1,0)","v":0},null,{"$f":"IF(Match!AC22>Match!AD22,1,0)","v":0},null,{"$f":"IF(Match!AE22>Match!AF22,1,0)","v":0},null,{"$f":"IF(Match!AG22>Match!AH22,1,0)","v":0},null,{"$f":"IF(Match!AI22>Match!AJ22,1,0)","v":0},null,{"$f":"IF(Match!AK22>Match!AL22,1,0)","v":0},{"$f":"IF(Match!AK22=Match!AL22,1,0)","v":1},0,1]
[null,"R",{"$f":"IF(Match!C23>Match!D23,1,0)","v":0},null,{"$f":"IF(Match!E23>Match!F23,1,0)","v":0},null,{"$f":"IF(Match!G23>Match!H23,1,0)","v":0},null,{"$f":"IF(Match!I23>Match!J23,1,0)","v":0},null,{"$f":"IF(Match!K23>Match!L23,1,0)","v":0},null,{"$f":"IF(Match!M23>Match!N23,1,0)","v":0},null,{"$f":"IF(Match!O23>Match!P23,1,0)","v":0},null,{"$f":"IF(Match!Q23>Match!R23,1,0)","v":0},null,{"$f":"IF(Match!S23>Match!T23,1,0)","v":0},null,{"$f":"IF(Match!U23>Match!V23,1,0)","v":0},null,{"$f":"IF(Match!W23>Match!X23,1,0)","v":0},null,{"$f":"IF(Match!Y23>Match!Z23,1,0)","v":0},null,{"$f":"IF(Match!AA23>Match!AB23,1,0)","v":0},null,{"$f":"IF(Match!AC23>Match!AD23,1,0)","v":0},null,{"$f":"IF(Match!AE23>Match!AF23,1,0)","v":0},null,{"$f":"IF(Match!AG23>Match!AH23,1,0)","v":0},null,{"$f":"IF(Match!AI23>Match!AJ23,1,0)","v":0},null,{"$f":"IF(Match!AK23>Match!AL23,1,0)","v":0},null,0,0]
[]
[null,"直計","A",null,"B",null,"C",null,"D",null,"E",null,"F",null,"G",null,"H",null,"I",null,"J",null,"K",null,"L",null,"M",null,"N",null,"O",null,"P",null,"Q",null,"R",null,"勝","和"]
[null,"A",{"$f":"IF(Match!C6<Match!D6,1,0)","v":0},null,{"$f":"IF(Match!E6<Match!F6,1,0)","v":0},{"$f":"IF(Match!E6=Match!F6,1,0)","v":0},{"$f":"IF(Match!G6<Match!H6,1,0)","v":0},{"$f":"IF(Match!G6=Match!H6,1,0)","v":0},{"$f":"IF(Match!I6<Match!J6,1,0)","v":0},{"$f":"IF(Match!I6=Match!J6,1,0)","v":0},{"$f":"IF(Match!K6<Match!L6,1,0)","v":0},{"$f":"IF(Match!K6=Match!L6,1,0)","v":0},{"$f":"IF(Match!M6<Match!N6,1,0)","v":0},{"$f":"IF(Match!M6=Match!N6,1,0)","v":0},{"$f":"IF(Match!O6<Match!P6,1,0)","v":0},{"$f":"IF(Match!O6=Match!P6,1,0)","v":0},{"$f":"IF(Match!Q6<Match!R6,1,0)","v":0},{"$f":"IF(Match!Q6=Match!R6,1,0)","v":0},{"$f":"IF(Match!S6<Match!T6,1,0)","v":0},{"$f":"IF(Match!S6=Match!T6,1,0)","v":0},{"$f":"IF(Match!U6<Match!V6,1,0)","v":0},{"$f":"IF(Match!U6=Match!V6,1,0)","v":0},{"$f":"IF(Match!W6<Match!X6,1,0)","v":0},{"$f":"IF(Match!W6=Match!X6,1,0)","v":0},{"$f":"IF(Match!Y6<Match!Z6,1,0)","v":0},{"$f":"IF(Match!Y6=Match!Z6,1,0)","v":0},{"$f":"IF(Match!AA6<Match!AB6,1,0)","v":0},{"$f":"IF(Match!AA6=Match!AB6,1,0)","v":0},{"$f":"IF(Match!AC6<Match!AD6,1,0)","v":0},{"$f":"IF(Match!AC6=Match!AD6,1,0)","v":1},{"$f":"IF(Match!AE6<Match!AF6,1,0)","v":0},{"$f":"IF(Match!AE6=Match!AF6,1,0)","v":0},{"$f":"IF(Match!AG6<Match!AH6,1,0)","v":0},{"$f":"IF(Match!AG6=Match!AH6,1,0)","v":0},{"$f":"IF(Match!AI6<Match!AJ6,1,0)","v":0},{"$f":"IF(Match!AI6=Match!AJ6,1,0)","v":0},{"$f":"IF(Match!AK6<Match!AL6,1,0)","v":0},{"$f":"IF(Match!AK6=Match!AL6,1,0)","v":1},{"$f":"C67","v":0},{"$f":"D67","v":0}]
[null,"B",{"$f":"IF(Match!C7<Match!D7,1,0)","v":0},null,{"$f":"IF(Match!E7<Match!F7,1,0)","v":0},null,{"$f":"IF(Match!G7<Match!H7,1,0)","v":0},{"$f":"IF(Match!G7=Match!H7,1,0)","v":1},{"$f":"IF(Match!I7<Match!J7,1,0)","v":0},{"$f":"IF(Match!I7=Match!J7,1,0)","v":0},{"$f":"IF(Match!K7<Match!L7,1,0)","v":0},{"$f":"IF(Match!K7=Match!L7,1,0)","v":0},{"$f":"IF(Match!M7<Match!N7,1,0)","v":0},{"$f":"IF(Match!M7=Match!N7,1,0)","v":0},{"$f":"IF(Match!O7<Match!P7,1,0)","v":0},{"$f":"IF(Match!O7=Match!P7,1,0)","v":0},{"$f":"IF(Match!Q7<Match!R7,1,0)","v":0},{"$f":"IF(Match!Q7=Match!R7,1,0)","v":0},{"$f":"IF(Match!S7<Match!T7,1,0)","v":0},{"$f":"IF(Match!S7=Match!T7,1,0)","v":0},{"$f":"IF(Match!U7<Match!V7,1,0)","v":0},{"$f":"IF(Match!U7=Match!V7,1,0)","v":0},{"$f":"IF(Match!W7<Match!X7,1,0)","v":0},{"$f":"IF(Match!W7=Match!X7,1,0)","v":0},{"$f":"IF(Match!Y7<Match!Z7,1,0)","v":0},{"$f":"IF(Match!Y7=Match!Z7,1,0)","v":0},{"$f":"IF(Match!AA7<Match!AB7,1,0)","v":0},{"$f":"IF(Match!AA7=Match!AB7,1,0)","v":0},{"$f":"IF(Match!AC7<Match!AD7,1,0)","v":0},{"$f":"IF(Match!AC7=Match!AD7,1,0)","v":0},{"$f":"IF(Match!AE7<Match!AF7,1,0)","v":0},{"$f":"IF(Match!AE7=Match!AF7,1,0)","v":1},{"$f":"IF(Match!AG7<Match!AH7,1,0)","v":0},{"$f":"IF(Match!AG7=Match!AH7,1,0)","v":0},{"$f":"IF(Match!AI7<Match!AJ7,1,0)","v":0},{"$f":"IF(Match!AI7=Match!AJ7,1,0)","v":0},{"$f":"IF(Match!AK7<Match!AL7,1,0)","v":0},{"$f":"IF(Match!AK7=Match!AL7,1,0)","v":1},{"$f":"E67","v":0},{"$f":"F67","v":0}]
[null,"C",{"$f":"IF(Match!C8<Match!D8,1,0)","v":0},null,{"$f":"IF(Match!E8<Match!F8,1,0)","v":0},null,{"$f":"IF(Match!G8<Match!H8,1,0)","v":0},null,{"$f":"IF(Match!I8<Match!J8,1,0)","v":0},{"$f":"IF(Match!I8=Match!J8,1,0)","v":0},{"$f":"IF(Match!K8<Match!L8,1,0)","v":0},{"$f":"IF(Match!K8=Match!L8,1,0)","v":0},{"$f":"IF(Match!M8<Match!N8,1,0)","v":1},{"$f":"IF(Match!M8=Match!N8,1,0)","v":0},{"$f":"IF(Match!O8<Match!P8,1,0)","v":0},{"$f":"IF(Match!O8=Match!P8,1,0)","v":0},{"$f":"IF(Match!Q8<Match!R8,1,0)","v":0},{"$f":"IF(Match!Q8=Match!R8,1,0)","v":0},{"$f":"IF(Match!S8<Match!T8,1,0)","v":1},{"$f":"IF(Match!S8=Match!T8,1,0)","v":0},{"$f":"IF(Match!U8<Match!V8,1,0)","v":0},{"$f":"IF(Match!U8=Match!V8,1,0)","v":1},{"$f":"IF(Match!W8<Match!X8,1,0)","v":1},{"$f":"IF(Match!W8=Match!X8,1,0)","v":0},{"$f":"IF(Match!Y8<Match!Z8,1,0)","v":0},{"$f":"IF(Match!Y8=Match!Z8,1,0)","v":0},{"$f":"IF(Match!AA8<Match!AB8,1,0)","v":0},{"$f":"IF(Match!AA8=Match!AB8,1,0)","v":0},{"$f":"IF(Match!AC8<Match!AD8,1,0)","v":0},{"$f":"IF(Match!AC8=Match!AD8,1,0)","v":0},{"$f":"IF(Match!AE8<Match!AF8,1,0)","v":0},{"$f":"IF(Match!AE8=Match!AF8,1,0)","v":0},{"$f":"IF(Match!AG8<Match!AH8,1,0)","v":0},{"$f":"IF(Match!AG8=Match!AH8,1,0)","v":0},{"$f":"IF(Match!AI8<Match!AJ8,1,0)","v":1},{"$f":"IF(Match!AI8=Match!AJ8,1,0)","v":0},{"$f":"IF(Match!AK8<Match!AL8,1,0)","v":0},{"$f":"IF(Match!AK8=Match!AL8,1,0)","v":1},{"$f":"G67","v":0},{"$f":"H67","v":1}]
[null,"D",{"$f":"IF(Match!C9<Match!D9,1,0)","v":0},null,{"$f":"IF(Match!E9<Match!F9,1,0)","v":0},null,{"$f":"IF(Match!G9<Match!H9,1,0)","v":0},null,{"$f":"IF(Match!I9<Match!J9,1,0)","v":0},null,{"$f":"IF(Match!K9<Match!L9,1,0)","v":1},{"$f":"IF(Match!K9=Match!L9,1,0)","v":0},{"$f":"IF(Match!M9<Match!N9,1,0)","v":1},{"$f":"IF(Match!M9=Match!N9,1,0)","v":0},{"$f":"IF(Match!O9<Match!P9,1,0)","v":1},{"$f":"IF(Match!O9=Match!P9,1,0)","v":0},{"$f":"IF(Match!Q9<Match!R9,1,0)","v":1},{"$f":"IF(Match!Q9=Match!R9,1,0)","v":0},{"$f":"IF(Match!S9<Match!T9,1,0)","v":1},{"$f":"IF(Match!S9=Match!T9,1,0)","v":0},{"$f":"IF(Match!U9<Match!V9,1,0)","v":0},{"$f":"IF(Match!U9=Match!V9,1,0)","v":0},{"$f":"IF(Match!W9<Match!X9,1,0)","v":1},{"$f":"IF(Match!W9=Match!X9,1,0)","v":0},{"$f":"IF(Match!Y9<Match!Z9,1,0)","v":1},{"$f":"IF(Match!Y9=Match!Z9,1,0)","v":0},{"$f":"IF(Match!AA9<Match!AB9,1,0)","v":1},{"$f":"IF(Match!AA9=Match!AB9,1,0)","v":0},{"$f":"IF(Match!AC9<Match!AD9,1,0)","v":1},{"$f":"IF(Match!AC9=Match!AD9,1,0)","v":0},{"$f":"IF(Match!AE9<Match!AF9,1,0)","v":1},{"$f":"IF(Match!AE9=Match!AF9,1,0)","v":0},{"$f":"IF(Match!AG9<Match!AH9,1,0)","v":1},{"$f":"IF(Match!AG9=Match!AH9,1,0)","v":0},{"$f":"IF(Match!AI9<Match!AJ9,1,0)","v":1},{"$f":"IF(Match!AI9=Match!AJ9,1,0)","v":0},{"$f":"IF(Match!AK9<Match!AL9,1,0)","v":0},{"$f":"IF(Match!AK9=Match!AL9,1,0)","v":1},{"$f":"I67","v":0},{"$f":"J67","v":0}]
[null,"E",{"$f":"IF(Match!C10<Match!D10,1,0)","v":0},null,{"$f":"IF(Match!E10<Match!F10,1,0)","v":0},null,{"$f":"IF(Match!G10<Match!H10,1,0)","v":0},null,{"$f":"IF(Match!I10<Match!J10,1,0)","v":0},null,{"$f":"IF(Match!K10<Match!L10,1,0)","v":0},null,{"$f":"IF(Match!M10<Match!N10,1,0)","v":0},{"$f":"IF(Match!M10=Match!N10,1,0)","v":0},{"$f":"IF(Match!O10<Match!P10,1,0)","v":0},{"$f":"IF(Match!O10=Match!P10,1,0)","v":0},{"$f":"IF(Match!Q10<Match!R10,1,0)","v":1},{"$f":"IF(Match!Q10=Match!R10,1,0)","v":0},{"$f":"IF(Match!S10<Match!T10,1,0)","v":0},{"$f":"IF(Match!S10=Match!T10,1,0)","v":1},{"$f":"IF(Match!U10<Match!V10,1,0)","v":1},{"$f":"IF(Match!U10=Match!V10,1,0)","v":0},{"$f":"IF(Match!W10<Match!X10,1,0)","v":0},{"$f":"IF(Match!W10=Match!X10,1,0)","v":0},{"$f":"IF(Match!Y10<Match!Z10,1,0)","v":0},{"$f":"IF(Match!Y10=Match!Z10,1,0)","v":0},{"$f":"IF(Match!AA10<Match!AB10,1,0)","v":0},{"$f":"IF(Match!AA10=Match!AB10,1,0)","v":0},{"$f":"IF(Match!AC10<Match!AD10,1,0)","v":1},{"$f":"IF(Match!AC10=Match!AD10,1,0)","v":0},{"$f":"IF(Match!AE10<Match!AF10,1,0)","v":1},{"$f":"IF(Match!AE10=Match!AF10,1,0)","v":0},{"$f":"IF(Match!AG10<Match!AH10,1,0)","v":1},{"$f":"IF(Match!AG10=Match!AH10,1,0)","v":0},{"$f":"IF(Match!AI10<Match!AJ10,1,0)","v":0},{"$f":"IF(Match!AI10=Match!AJ10,1,0)","v":1},{"$f":"IF(Match!AK10<Match!AL10,1,0)","v":0},{"$f":"IF(Match!AK10=Match!AL10,1,0)","v":1},{"$f":"K67","v":1},{"$f":"L67","v":0}]
[null,"F",{"$f":"IF(Match!C11<Match!D11,1,0)","v":0},null,{"$f":"IF(Match!E11<Match!F11,1,0)","v":0},null,{"$f":"IF(Match!G11<Match!H11,1,0)","v":0},null,{"$f":"IF(Match!I11<Match!J11,1,0)","v":0},null,{"$f":"IF(Match!K11<Match!L11,1,0)","v":0},null,{"$f":"IF(Match!M11<Match!N11,1,0)","v":0},null,{"$f":"IF(Match!O11<Match!P11,1,0)","v":1},{"$f":"IF(Match!O11=Match!P11,1,0)","v":0},{"$f":"IF(Match!Q11<Match!R11,1,0)","v":0},{"$f":"IF(Match!Q11=Match!R11,1,0)","v":1},{"$f":"IF(Match!S11<Match!T11,1,0)","v":0},{"$f":"IF(Match!S11=Match!T11,1,0)","v":0},{"$f":"IF(Match!U11<Match!V11,1,0)","v":0},{"$f":"IF(Match!U11=Match!V11,1,0)","v":0},{"$f":"IF(Match!W11<Match!X11,1,0)","v":0},{"$f":"IF(Match!W11=Match!X11,1,0)","v":1},{"$f":"IF(Match!Y11<Match!Z11,1,0)","v":1},{"$f":"IF(Match!Y11=Match!Z11,1,0)","v":0},{"$f":"IF(Match!AA11<Match!AB11,1,0)","v":1},{"$f":"IF(Match!AA11=Match!AB11,1,0)","v":0},{"$f":"IF(Match!AC11<Match!AD11,1,0)","v":0},{"$f":"IF(Match!AC11=Match!AD11,1,0)","v":1},{"$f":"IF(Match!AE11<Match!AF11,1,0)","v":0},{"$f":"IF(Match!AE11=Match!AF11,1,0)","v":0},{"$f":"IF(Match!AG11<Match!AH11,1,0)","v":1},{"$f":"IF(Match!AG11=Match!AH11,1,0)","v":0},{"$f":"IF(Match!AI11<Match!AJ11,1,0)","v":0},{"$f":"IF(Match!AI11=Match!AJ11,1,0)","v":0},{"$f":"IF(Match!AK11<Match!AL11,1,0)","v":0},{"$f":"IF(Match!AK11=Match!AL11,1,0)","v":1},{"$f":"M67","v":2},{"$f":"N67","v":0}]
[null,"G",{"$f":"IF(Match!C12<Match!D12,1,0)","v":0},null,{"$f":"IF(Match!E12<Match!F12,1,0)","v":0},null,{"$f":"IF(Match!G12<Match!H12,1,0)","v":0},null,{"$f":"IF(Match!I12<Match!J12,1,0)","v":0},null,{"$f":"IF(Match!K12<Match!L12,1,0)","v":0},null,{"$f":"IF(Match!M12<Match!N12,1,0)","v":0},null,{"$f":"IF(Match!O12<Match!P12,1,0)","v":0},null,{"$f":"IF(Match!Q12<Match!R12,1,0)","v":0},{"$f":"IF(Match!Q12=Match!R12,1,0)","v":0},{"$f":"IF(Match!S12<Match!T12,1,0)","v":0},{"$f":"IF(Match!S12=Match!T12,1,0)","v":0},{"$f":"IF(Match!U12<Match!V12,1,0)","v":0},{"$f":"IF(Match!U12=Match!V12,1,0)","v":0},{"$f":"IF(Match!W12<Match!X12,1,0)","v":1},{"$f":"IF(Match!W12=Match!X12,1,0)","v":0},{"$f":"IF(Match!Y12<Match!Z12,1,0)","v":1},{"$f":"IF(Match!Y12=Match!Z12,1,0)","v":0},{"$f":"IF(Match!AA12<Match!AB12,1,0)","v":1},{"$f":"IF(Match!AA12=Match!AB12,1,0)","v":0},{"$f":"IF(Match!AC12<Match!AD12,1,0)","v":0},{"$f":"IF(Match!AC12=Match!AD12,1,0)","v":1},{"$f":"IF(Match!AE12<Match!AF12,1,0)","v":1},{"$f":"IF(Match!AE12=Match!AF12,1,0)","v":0},{"$f":"IF(Match!AG12<Match!AH12,1,0)","v":0},{"$f":"IF(Match!AG12=Match!AH12,1,0)","v":0},{"$f":"IF(Match!AI12<Match!AJ12,1,0)","v":0},{"$f":"IF(Match!AI12=Match!AJ12,1,0)","v":1},{"$f":"IF(Match!AK12<Match!AL12,1,0)","v":0},{"$f":"IF(Match!AK12=Match!AL12,1,0)","v":1},{"$f":"O67","v":2},{"$f":"P67","v":0}]
[null,"H",{"$f":"IF(Match!C13<Match!D13,1,0)","v":0},null,{"$f":"IF(Match!E13<Match!F13,1,0)","v":0},null,{"$f":"IF(Match!G13<Match!H13,1,0)","v":0},null,{"$f":"IF(Match!I13<Match!J13,1,0)","v":0},null,{"$f":"IF(Match!K13<Match!L13,1,0)","v":0},null,{"$f":"IF(Match!M13<Match!N13,1,0)","v":0},null,{"$f":"IF(Match!O13<Match!P13,1,0)","v":0},null,{"$f":"IF(Match!Q13<Match!R13,1,0)","v":0},null,{"$f":"IF(Match!S13<Match!T13,1,0)","v":1},{"$f":"IF(Match!S13=Match!T13,1,0)","v":0},{"$f":"IF(Match!U13<Match!V13,1,0)","v":0},{"$f":"IF(Match!U13=Match!V13,1,0)","v":1},{"$f":"IF(Match!W13<Match!X13,1,0)","v":1},{"$f":"IF(Match!W13=Match!X13,1,0)","v":0},{"$f":"IF(Match!Y13<Match!Z13,1,0)","v":1},{"$f":"IF(Match!Y13=Match!Z13,1,0)","v":0},{"$f":"IF(Match!AA13<Match!AB13,1,0)","v":0},{"$f":"IF(Match!AA13=Match!AB13,1,0)","v":0},{"$f":"IF(Match!AC13<Match!AD13,1,0)","v":0},{"$f":"IF(Match!AC13=Match!AD13,1,0)","v":0},{"$f":"IF(Match!AE13<Match!AF13,1,0)","v":0},{"$f":"IF(Match!AE13=Match!AF13,1,0)","v":0},{"$f":"IF(Match!AG13<Match!AH13,1,0)","v":1},{"$f":"IF(Match!AG13=Match!AH13,1,0)","v":0},{"$f":"IF(Match!AI13<Match!AJ13,1,0)","v":0},{"$f":"IF(Match!AI13=Match!AJ13,1,0)","v":1},{"$f":"IF(Match!AK13<Match!AL13,1,0)","v":0},{"$f":"IF(Match!AK13=Match!AL13,1,0)","v":1},{"$f":"Q67","v":2},{"$f":"R67","v":1}]
[null,"I",{"$f":"IF(Match!C14<Match!D14,1,0)","v":0},null,{"$f":"IF(Match!E14<Match!F14,1,0)","v":0},null,{"$f":"IF(Match!G14<Match!H14,1,0)","v":0},null,{"$f":"IF(Match!I14<Match!J14,1,0)","v":0},null,{"$f":"IF(Match!K14<Match!L14,1,0)","v":0},null,{"$f":"IF(Match!M14<Match!N14,1,0)","v":0},null,{"$f":"IF(Match!O14<Match!P14,1,0)","v":0},null,{"$f":"IF(Match!Q14<Match!R14,1,0)","v":0},null,{"$f":"IF(Match!S14<Match!T14,1,0)","v":0},null,{"$f":"IF(Match!U14<Match!V14,1,0)","v":1},{"$f":"IF(Match!U14=Match!V14,1,0)","v":0},{"$f":"IF(Match!W14<Match!X14,1,0)","v":0},{"$f":"IF(Match!W14=Match!X14,1,0)","v":1},{"$f":"IF(Match!Y14<Match!Z14,1,0)","v":1},{"$f":"IF(Match!Y14=Match!Z14,1,0)","v":0},{"$f":"IF(Match!AA14<Match!AB14,1,0)","v":1},{"$f":"IF(Match!AA14=Match!AB14,1,0)","v":0},{"$f":"IF(Match!AC14<Match!AD14,1,0)","v":0},{"$f":"IF(Match!AC14=Match!AD14,1,0)","v":1},{"$f":"IF(Match!AE14<Match!AF14,1,0)","v":0},{"$f":"IF(Match!AE14=Match!AF14,1,0)","v":1},{"$f":"IF(Match!AG14<Match!AH14,1,0)","v":0},{"$f":"IF(Match!AG14=Match!AH14,1,0)","v":1},{"$f":"IF(Match!AI14<Match!AJ14,1,0)","v":0},{"$f":"IF(Match!AI14=Match!AJ14,1,0)","v":0},{"$f":"IF(Match!AK14<Match!AL14,1,0)","v":0},{"$f":"IF(Match!AK14=Match!AL14,1,0)","v":1},{"$f":"S67","v":3},{"$f":"T67","v":1}]
[null,"J",{"$f":"IF(Match!C15<Match!D15,1,0)","v":0},null,{"$f":"IF(Match!E15<Match!F15,1,0)","v":0},null,{"$f":"IF(Match!G15<Match!H15,1,0)","v":0},null,{"$f":"IF(Match!I15<Match!J15,1,0)","v":0},null,{"$f":"IF(Match!K15<Match!L15,1,0)","v":0},null,{"$f":"IF(Match!M15<Match!N15,1,0)","v":0},null,{"$f":"IF(Match!O15<Match!P15,1,0)","v":0},null,{"$f":"IF(Match!Q15<Match!R15,1,0)","v":0},null,{"$f":"IF(Match!S15<Match!T15,1,0)","v":0},null,{"$f":"IF(Match!U15<Match!V15,1,0)","v":0},null,{"$f":"IF(Match!W15<Match!X15,1,0)","v":1},{"$f":"IF(Match!W15=Match!X15,1,0)","v":0},{"$f":"IF(Match!Y15<Match!Z15,1,0)","v":1},{"$f":"IF(Match!Y15=Match!Z15,1,0)","v":0},{"$f":"IF(Match!AA15<Match!AB15,1,0)","v":0},{"$f":"IF(Match!AA15=Match!AB15,1,0)","v":1},{"$f":"IF(Match!AC15<Match!AD15,1,0)","v":1},{"$f":"IF(Match!AC15=Match!AD15,1,0)","v":0},{"$f":"IF(Match!AE15<Match!AF15,1,0)","v":1},{"$f":"IF(Match!AE15=Match!AF15,1,0)","v":0},{"$f":"IF(Match!AG15<Match!AH15,1,0)","v":1},{"$f":"IF(Match!AG15=Match!AH15,1,0)","v":0},{"$f":"IF(Match!AI15<Match!AJ15,1,0)","v":1},{"$f":"IF(Match!AI15=Match!AJ15,1,0)","v":0},{"$f":"IF(Match!AK15<Match!AL15,1,0)","v":0},{"$f":"IF(Match!AK15=Match!AL15,1,0)","v":1},{"$f":"U67","v":2},{"$f":"V67","v":2}]
[null,"K",{"$f":"IF(Match!C16<Match!D16,1,0)","v":0},null,{"$f":"IF(Match!E16<Match!F16,1,0)","v":0},null,{"$f":"IF(Match!G16<Match!H16,1,0)","v":0},null,{"$f":"IF(Match!I16<Match!J16,1,0)","v":0},null,{"$f":"IF(Match!K16<Match!L16,1,0)","v":0},null,{"$f":"IF(Match!M16<Match!N16,1,0)","v":0},null,{"$f":"IF(Match!O16<Match!P16,1,0)","v":0},null,{"$f":"IF(Match!Q16<Match!R16,1,0)","v":0},null,{"$f":"IF(Match!S16<Match!T16,1,0)","v":0},null,{"$f":"IF(Match!U16<Match!V16,1,0)","v":0},null,{"$f":"IF(Match!W16<Match!X16,1,0)","v":0},null,{"$f":"IF(Match!Y16<Match!Z16,1,0)","v":1},{"$f":"IF(Match!Y16=Match!Z16,1,0)","v":0},{"$f":"IF(Match!AA16<Match!AB16,1,0)","v":1},{"$f":"IF(Match!AA16=Match!AB16,1,0)","v":0},{"$f":"IF(Match!AC16<Match!AD16,1,0)","v":0},{"$f":"IF(Match!AC16=Match!AD16,1,0)","v":0},{"$f":"IF(Match!AE16<Match!AF16,1,0)","v":1},{"$f":"IF(Match!AE16=Match!AF16,1,0)","v":0},{"$f":"IF(Match!AG16<Match!AH16,1,0)","v":1},{"$f":"IF(Match!AG16=Match!AH16,1,0)","v":0},{"$f":"IF(Match!AI16<Match!AJ16,1,0)","v":0},{"$f":"IF(Match!AI16=Match!AJ16,1,0)","v":1},{"$f":"IF(Match!AK16<Match!AL16,1,0)","v":0},{"$f":"IF(Match!AK16=Match!AL16,1,0)","v":1},{"$f":"W67","v":5},{"$f":"X67","v":2}]
[null,"L",{"$f":"IF(Match!C17<Match!D17,1,0)","v":0},null,{"$f":"IF(Match!E17<Match!F17,1,0)","v":0},null,{"$f":"IF(Match!G17<Match!H17,1,0)","v":0},null,{"$f":"IF(Match!I17<Match!J17,1,0)","v":0},null,{"$f":"IF(Match!K17<Match!L17,1,0)","v":0},null,{"$f":"IF(Match!M17<Match!N17,1,0)","v":0},null,{"$f":"IF(Match!O17<Match!P17,1,0)","v":0},null,{"$f":"IF(Match!Q17<Match!R17,1,0)","v":0},null,{"$f":"IF(Match!S17<Match!T17,1,0)","v":0},null,{"$f":"IF(Match!U17<Match!V17,1,0)","v":0},null,{"$f":"IF(Match!W17<Match!X17,1,0)","v":0},null,{"$f":"IF(Match!Y17<Match!Z17,1,0)","v":0},null,{"$f":"IF(Match!AA17<Match!AB17,1,0)","v":1},{"$f":"IF(Match!AA17=Match!AB17,1,0)","v":0},{"$f":"IF(Match!AC17<Match!AD17,1,0)","v":1},{"$f":"IF(Match!AC17=Match!AD17,1,0)","v":0},{"$f":"IF(Match!AE17<Match!AF17,1,0)","v":1},{"$f":"IF(Match!AE17=Match!AF17,1,0)","v":0},{"$f":"IF(Match!AG17<Match!AH17,1,0)","v":1},{"$f":"IF(Match!AG17=Match!AH17,1,0)","v":0},{"$f":"IF(Match!AI17<Match!AJ17,1,0)","v":0},{"$f":"IF(Match!AI17=Match!AJ17,1,0)","v":0},{"$f":"IF(Match!AK17<Match!AL17,1,0)","v":0},{"$f":"IF(Match!AK17=Match!AL17,1,0)","v":1},{"$f":"Y67","v":7},{"$f":"Z67","v":0}]
[null,"M",{"$f":"IF(Match!C18<Match!D18,1,0)","v":0},null,{"$f":"IF(Match!E18<Match!F18,1,0)","v":0},null,{"$f":"IF(Match!G18<Match!H18,1,0)","v":0},null,{"$f":"IF(Match!I18<Match!J18,1,0)","v":0},null,{"$f":"IF(Match!K18<Match!L18,1,0)","v":0},null,{"$f":"IF(Match!M18<Match!N18,1,0)","v":0},null,{"$f":"IF(Match!O18<Match!P18,1,0)","v":0},null,{"$f":"IF(Match!Q18<Match!R18,1,0)","v":0},null,{"$f":"IF(Match!S18<Match!T18,1,0)","v":0},null,{"$f":"IF(Match!U18<Match!V18,1,0)","v":0},null,{"$f":"IF(Match!W18<Match!X18,1,0)","v":0},null,{"$f":"IF(Match!Y18<Match!Z18,1,0)","v":0},null,{"$f":"IF(Match!AA18<Match!AB18,1,0)","v":0},null,{"$f":"IF(Match!AC18<Match!AD18,1,0)","v":0},{"$f":"IF(Match!AC18=Match!AD18,1,0)","v":0},{"$f":"IF(Match!AE18<Match!AF18,1,0)","v":0},{"$f":"IF(Match!AE18=Match!AF18,1,0)","v":0},{"$f":"IF(Match!AG18<Match!AH18,1,0)","v":1},{"$f":"IF(Match!AG18=Match!AH18,1,0)","v":0},{"$f":"IF(Match!AI18<Match!AJ18,1,0)","v":0},{"$f":"IF(Match!AI18=Match!AJ18,1,0)","v":1},{"$f":"IF(Match!AK18<Match!AL18,1,0)","v":0},{"$f":"IF(Match!AK18=Match!AL18,1,0)","v":1},{"$f":"AA67","v":6},{"$f":"AB67","v":1}]
[null,"N",{"$f":"IF(Match!C19<Match!D19,1,0)","v":0},null,{"$f":"IF(Match!E19<Match!F19,1,0)","v":0},null,{"$f":"IF(Match!G19<Match!H19,1,0)","v":0},null,{"$f":"IF(Match!I19<Match!J19,1,0)","v":0},null,{"$f":"IF(Match!K19<Match!L19,1,0)","v":0},null,{"$f":"IF(Match!M19<Match!N19,1,0)","v":0},null,{"$f":"IF(Match!O19<Match!P19,1,0)","v":0},null,{"$f":"IF(Match!Q19<Match!R19,1,0)","v":0},null,{"$f":"IF(Match!S19<Match!T19,1,0)","v":0},null,{"$f":"IF(Match!U19<Match!V19,1,0)","v":0},null,{"$f":"IF(Match!W19<Match!X19,1,0)","v":0},null,{"$f":"IF(Match!Y19<Match!Z19,1,0)","v":0},null,{"$f":"IF(Match!AA19<Match!AB19,1,0)","v":0},null,{"$f":"IF(Match!AC19<Match!AD19,1,0)","v":0},null,{"$f":"IF(Match!AE19<Match!AF19,1,0)","v":0},{"$f":"IF(Match!AE19=Match!AF19,1,0)","v":0},{"$f":"IF(Match!AG19<Match!AH19,1,0)","v":1},{"$f":"IF(Match!AG19=Match!AH19,1,0)","v":0},{"$f":"IF(Match!AI19<Match!AJ19,1,0)","v":0},{"$f":"IF(Match!AI19=Match!AJ19,1,0)","v":0},{"$f":"IF(Match!AK19<Match!AL19,1,0)","v":0},{"$f":"IF(Match!AK19=Match!AL19,1,0)","v":1},{"$f":"AC67","v":4},{"$f":"AD67","v":4}]
[null,"O",{"$f":"IF(Match!C20<Match!D20,1,0)","v":0},null,{"$f":"IF(Match!E20<Match!F20,1,0)","v":0},null,{"$f":"IF(Match!G20<Match!H20,1,0)","v":0},null,{"$f":"IF(Match!I20<Match!J20,1,0)","v":0},null,{"$f":"IF(Match!K20<Match!L20,1,0)","v":0},null,{"$f":"IF(Match!M20<Match!N20,1,0)","v":0},null,{"$f":"IF(Match!O20<Match!P20,1,0)","v":0},null,{"$f":"IF(Match!Q20<Match!R20,1,0)","v":0},null,{"$f":"IF(Match!S20<Match!T20,1,0)","v":0},null,{"$f":"IF(Match!U20<Match!V20,1,0)","v":0},null,{"$f":"IF(Match!W20<Match!X20,1,0)","v":0},null,{"$f":"IF(Match!Y20<Match!Z20,1,0)","v":0},null,{"$f":"IF(Match!AA20<Match!AB20,1,0)","v":0},null,{"$f":"IF(Match!AC20<Match!AD20,1,0)","v":0},null,{"$f":"IF(Match!AE20<Match!AF20,1,0)","v":0},null,{"$f":"IF(Match!AG20<Match!AH20,1,0)","v":1},{"$f":"IF(Match!AG20=Match!AH20,1,0)","v":0},{"$f":"IF(Match!AI20<Match!AJ20,1,0)","v":0},{"$f":"IF(Match!AI20=Match!AJ20,1,0)","v":0},{"$f":"IF(Match!AK20<Match!AL20,1,0)","v":0},{"$f":"IF(Match!AK20=Match!AL20,1,0)","v":1},{"$f":"AE67","v":6},{"$f":"AF67","v":2}]
[null,"P",{"$f":"IF(Match!C21<Match!D21,1,0)","v":0},null,{"$f":"IF(Match!E21<Match!F21,1,0)","v":0},null,{"$f":"IF(Match!G21<Match!H21,1,0)","v":0},null,{"$f":"IF(Match!I21<Match!J21,1,0)","v":0},null,{"$f":"IF(Match!K21<Match!L21,1,0)","v":0},null,{"$f":"IF(Match!M21<Match!N21,1,0)","v":0},null,{"$f":"IF(Match!O21<Match!P21,1,0)","v":0},null,{"$f":"IF(Match!Q21<Match!R21,1,0)","v":0},null,{"$f":"IF(Match!S21<Match!T21,1,0)","v":0},null,{"$f":"IF(Match!U21<Match!V21,1,0)","v":0},null,{"$f":"IF(Match!W21<Match!X21,1,0)","v":0},null,{"$f":"IF(Match!Y21<Match!Z21,1,0)","v":0},null,{"$f":"IF(Match!AA21<Match!AB21,1,0)","v":0},null,{"$f":"IF(Match!AC21<Match!AD21,1,0)","v":0},null,{"$f":"IF(Match!AE21<Match!AF21,1,0)","v":0},null,{"$f":"IF(Match!AG21<Match!AH21,1,0)","v":0},null,{"$f":"IF(Match!AI21<Match!AJ21,1,0)","v":0},{"$f":"IF(Match!AI21=Match!AJ21,1,0)","v":0},{"$f":"IF(Match!AK21<Match!AL21,1,0)","v":0},{"$f":"IF(Match!AK21=Match!AL21,1,0)","v":1},{"$f":"AG67","v":10},{"$f":"AH67","v":1}]
[null,"Q",{"$f":"IF(Match!C22<Match!D22,1,0)","v":0},null,{"$f":"IF(Match!E22<Match!F22,1,0)","v":0},null,{"$f":"IF(Match!G22<Match!H22,1,0)","v":0},null,{"$f":"IF(Match!I22<Match!J22,1,0)","v":0},null,{"$f":"IF(Match!K22<Match!L22,1,0)","v":0},null,{"$f":"IF(Match!M22<Match!N22,1,0)","v":0},null,{"$f":"IF(Match!O22<Match!P22,1,0)","v":0},null,{"$f":"IF(Match!Q22<Match!R22,1,0)","v":0},null,{"$f":"IF(Match!S22<Match!T22,1,0)","v":0},null,{"$f":"IF(Match!U22<Match!V22,1,0)","v":0},null,{"$f":"IF(Match!W22<Match!X22,1,0)","v":0},null,{"$f":"IF(Match!Y22<Match!Z22,1,0)","v":0},null,{"$f":"IF(Match!AA22<Match!AB22,1,0)","v":0},null,{"$f":"IF(Match!AC22<Match!AD22,1,0)","v":0},null,{"$f":"IF(Match!AE22<Match!AF22,1,0)","v":0},null,{"$f":"IF(Match!AG22<Match!AH22,1,0)","v":0},null,{"$f":"IF(Match!AI22<Match!AJ22,1,0)","v":0},null,{"$f":"IF(Match!AK22<Match!AL22,1,0)","v":0},{"$f":"IF(Match!AK22=Match!AL22,1,0)","v":1},{"$f":"AI67","v":3},{"$f":"AJ67","v":5}]
[null,"R",{"$f":"IF(Match!C23<Match!D23,1,0)","v":0},null,{"$f":"IF(Match!E23<Match!F23,1,0)","v":0},null,{"$f":"IF(Match!G23<Match!H23,1,0)","v":0},null,{"$f":"IF(Match!I23<Match!J23,1,0)","v":0},null,{"$f":"IF(Match!K23<Match!L23,1,0)","v":0},null,{"$f":"IF(Match!M23<Match!N23,1,0)","v":0},null,{"$f":"IF(Match!O23<Match!P23,1,0)","v":0},null,{"$f":"IF(Match!Q23<Match!R23,1,0)","v":0},null,{"$f":"IF(Match!S23<Match!T23,1,0)","v":0},null,{"$f":"IF(Match!U23<Match!V23,1,0)","v":0},null,{"$f":"IF(Match!W23<Match!X23,1,0)","v":0},null,{"$f":"IF(Match!Y23<Match!Z23,1,0)","v":0},null,{"$f":"IF(Match!AA23<Match!AB23,1,0)","v":0},null,{"$f":"IF(Match!AC23<Match!AD23,1,0)","v":0},null,{"$f":"IF(Match!AE23<Match!AF23,1,0)","v":0},null,{"$f":"IF(Match!AG23<Match!AH23,1,0)","v":0},null,{"$f":"IF(Match!AI23<Match!AJ23,1,0)","v":0},null,{"$f":"IF(Match!AK23<Match!AL23,1,0)","v":0},null,{"$f":"AK67","v":0},{"$f":"AL67","v":17}]
[null,null,{"$f":"SUM(C49:C66)","v":0},{"$f":"SUM(D49:D66)","v":0},0,0,0,1,0,0,1,0,2,0,2,0,2,1,3,1,2,2,5,2,7,0,6,1,4,4,6,2,10,1,3,5,0,17]
[]
[null,"以編賽事","A",null,"B",null,"C",null,"D",null,"E",null,"F",null,"G",null,"H",null,"I",null,"J",null,"K",null,"L",null,"M",null,"N",null,"O",null,"P",null,"Q",null,"R",null,null,null,"以編賽事"]
[null,"A",{"$f":"IF(Match!C6=\"X\",1,0)","v":0},{"$f":"IF(Match!D6=\"X\",1,0)","v":0},{"$f":"IF(Match!E6=\"X\",1,0)","v":0},{"$f":"IF(Match!F6=\"X\",1,0)","v":0},{"$f":"IF(Match!G6=\"X\",1,0)","v":0},{"$f":"IF(Match!H6=\"X\",1,0)","v":0},{"$f":"IF(Match!I6=\"X\",1,0)","v":0},{"$f":"IF(Match!J6=\"X\",1,0)","v":0},{"$f":"IF(Match!K6=\"X\",1,0)","v":0},{"$f":"IF(Match!L6=\"X\",1,0)","v":0},{"$f":"IF(Match!M6=\"X\",1,0)","v":0},{"$f":"IF(Match!N6=\"X\",1,0)","v":0},{"$f":"IF(Match!O6=\"X\",1,0)","v":0},{"$f":"IF(Match!P6=\"X\",1,0)","v":0},{"$f":"IF(Match!Q6=\"X\",1,0)","v":0},{"$f":"IF(Match!R6=\"X\",1,0)","v":0},{"$f":"IF(Match!S6=\"X\",1,0)","v":0},{"$f":"IF(Match!T6=\"X\",1,0)","v":0},{"$f":"IF(Match!U6=\"X\",1,0)","v":0},{"$f":"IF(Match!V6=\"X\",1,0)","v":0},{"$f":"IF(Match!W6=\"X\",1,0)","v":0},{"$f":"IF(Match!X6=\"X\",1,0)","v":0},{"$f":"IF(Match!Y6=\"X\",1,0)","v":0},{"$f":"IF(Match!Z6=\"X\",1,0)","v":0},{"$f":"IF(Match!AA6=\"X\",1,0)","v":0},{"$f":"IF(Match!AB6=\"X\",1,0)","v":0},{"$f":"IF(Match!AC6=\"X\",1,0)","v":0},{"$f":"IF(Match!AD6=\"X\",1,0)","v":0},{"$f":"IF(Match!AE6=\"X\",1,0)","v":0},{"$f":"IF(Match!AF6=\"X\",1,0)","v":0},{"$f":"IF(Match!AG6=\"X\",1,0)","v":0},{"$f":"IF(Match!AH6=\"X\",1,0)","v":0},{"$f":"IF(Match!AI6=\"X\",1,0)","v":0},{"$f":"IF(Match!AJ6=\"X\",1,0)","v":0},{"$f":"IF(Match!AK6=\"X\",1,0)","v":0},{"$f":"IF(Match!AL6=\"X\",1,0)","v":0},{"$f":"SUM(C70:AL70)","v":0},null,null,{"$f":"AM70+C88+D88","v":0}]
[null,"B",{"$f":"IF(Match!C7=\"X\",1,0)","v":0},{"$f":"IF(Match!D7=\"X\",1,0)","v":0},{"$f":"IF(Match!E7=\"X\",1,0)","v":0},{"$f":"IF(Match!F7=\"X\",1,0)","v":0},{"$f":"IF(Match!G7=\"X\",1,0)","v":0},{"$f":"IF(Match!H7=\"X\",1,0)","v":0},{"$f":"IF(Match!I7=\"X\",1,0)","v":0},{"$f":"IF(Match!J7=\"X\",1,0)","v":0},{"$f":"IF(Match!K7=\"X\",1,0)","v":0},{"$f":"IF(Match!L7=\"X\",1,0)","v":0},{"$f":"IF(Match!M7=\"X\",1,0)","v":0},{"$f":"IF(Match!N7=\"X\",1,0)","v":0},{"$f":"IF(Match!O7=\"X\",1,0)","v":0},{"$f":"IF(Match!P7=\"X\",1,0)","v":0},{"$f":"IF(Match!Q7=\"X\",1,0)","v":0},{"$f":"IF(Match!R7=\"X\",1,0)","v":0},{"$f":"IF(Match!S7=\"X\",1,0)","v":0},{"$f":"IF(Match!T7=\"X\",1,0)","v":0},{"$f":"IF(Match!U7=\"X\",1,0)","v":0},{"$f":"IF(Match!V7=\"X\",1,0)","v":0},{"$f":"IF(Match!W7=\"X\",1,0)","v":0},{"$f":"IF(Match!X7=\"X\",1,0)","v":0},{"$f":"IF(Match!Y7=\"X\",1,0)","v":0},{"$f":"IF(Match!Z7=\"X\",1,0)","v":0},{"$f":"IF(Match!AA7=\"X\",1,0)","v":0},{"$f":"IF(Match!AB7=\"X\",1,0)","v":0},{"$f":"IF(Match!AC7=\"X\",1,0)","v":0},{"$f":"IF(Match!AD7=\"X\",1,0)","v":0},{"$f":"IF(Match!AE7=\"X\",1,0)","v":1},{"$f":"IF(Match!AF7=\"X\",1,0)","v":1},{"$f":"IF(Match!AG7=\"X\",1,0)","v":0},{"$f":"IF(Match!AH7=\"X\",1,0)","v":0},{"$f":"IF(Match!AI7=\"X\",1,0)","v":0},{"$f":"IF(Match!AJ7=\"X\",1,0)","v":0},{"$f":"IF(Match!AK7=\"X\",1,0)","v":0},{"$f":"IF(Match!AL7=\"X\",1,0)","v":0},{"$f":"SUM(C71:AL71)","v":2},null,null,{"$f":"AM71+E88+F88","v":2}]
[null,"C",{"$f":"IF(Match!C8=\"X\",1,0)","v":0},{"$f":"IF(Match!D8=\"X\",1,0)","v":0},{"$f":"IF(Match!E8=\"X\",1,0)","v":0},{"$f":"IF(Match!F8=\"X\",1,0)","v":0},{"$f":"IF(Match!G8=\"X\",1,0)","v":0},{"$f":"IF(Match!H8=\"X\",1,0)","v":0},{"$f":"IF(Match!I8=\"X\",1,0)","v":0},{"$f":"IF(Match!J8=\"X\",1,0)","v":0},{"$f":"IF(Match!K8=\"X\",1,0)","v":0},{"$f":"IF(Match!L8=\"X\",1,0)","v":0},{"$f":"IF(Match!M8=\"X\",1,0)","v":0},{"$f":"IF(Match!N8=\"X\",1,0)","v":0},{"$f":"IF(Match!O8=\"X\",1,0)","v":0},{"$f":"IF(Match!P8=\"X\",1,0)","v":0},{"$f":"IF(Match!Q8=\"X\",1,0)","v":0},{"$f":"IF(Match!R8=\"X\",1,0)","v":0},{"$f":"IF(Match!S8=\"X\",1,0)","v":0},{"$f":"IF(Match!T8=\"X\",1,0)","v":0},{"$f":"IF(Match!U8=\"X\",1,0)","v":0},{"$f":"IF(Match!V8=\"X\",1,0)","v":0},{"$f":"IF(Match!W8=\"X\",1,0)","v":0},{"$f":"IF(Match!X8=\"X\",1,0)","v":0},{"$f":"IF(Match!Y8=\"X\",1,0)","v":0},{"$f":"IF(Match!Z8=\"X\",1,0)","v":0},{"$f":"IF(Match!AA8=\"X\",1,0)","v":0},{"$f":"IF(Match!AB8=\"X\",1,0)","v":0},{"$f":"IF(Match!AC8=\"X\",1,0)","v":0},{"$f":"IF(Match!AD8=\"X\",1,0)","v":0},{"$f":"IF(Match!AE8=\"X\",1,0)","v":0},{"$f":"IF(Match!AF8=\"X\",1,0)","v":0},{"$f":"IF(Match!AG8=\"X\",1,0)","v":0},{"$f":"IF(Match!AH8=\"X\",1,0)","v":0},{"$f":"IF(Match!AI8=\"X\",1,0)","v":0},{"$f":"IF(Match!AJ8=\"X\",1,0)","v":0},{"$f":"IF(Match!AK8=\"X\",1,0)","v":0},{"$f":"IF(Match!AL8=\"X\",1,0)","v":0},0,null,null,{"$f":"AM72+G88+H88","v":0}]
[null,"D",{"$f":"IF(Match!C9=\"X\",1,0)","v":0},{"$f":"IF(Match!D9=\"X\",1,0)","v":0},{"$f":"IF(Match!E9=\"X\",1,0)","v":0},{"$f":"IF(Match!F9=\"X\",1,0)","v":0},{"$f":"IF(Match!G9=\"X\",1,0)","v":0},{"$f":"IF(Match!H9=\"X\",1,0)","v":0},{"$f":"IF(Match!I9=\"X\",1,0)","v":0},{"$f":"IF(Match!J9=\"X\",1,0)","v":0},{"$f":"IF(Match!K9=\"X\",1,0)","v":0},{"$f":"IF(Match!L9=\"X\",1,0)","v":0},{"$f":"IF(Match!M9=\"X\",1,0)","v":0},{"$f":"IF(Match!N9=\"X\",1,0)","v":0},{"$f":"IF(Match!O9=\"X\",1,0)","v":0},{"$f":"IF(Match!P9=\"X\",1,0)","v":0},{"$f":"IF(Match!Q9=\"X\",1,0)","v":0},{"$f":"IF(Match!R9=\"X\",1,0)","v":0},{"$f":"IF(Match!S9=\"X\",1,0)","v":0},{"$f":"IF(Match!T9=\"X\",1,0)","v":0},{"$f":"IF(Match!U9=\"X\",1,0)","v":0},{"$f":"IF(Match!V9=\"X\",1,0)","v":0},{"$f":"IF(Match!W9=\"X\",1,0)","v":0},{"$f":"IF(Match!X9=\"X\",1,0)","v":0},{"$f":"IF(Match!Y9=\"X\",1,0)","v":0},{"$f":"IF(Match!Z9=\"X\",1,0)","v":0},{"$f":"IF(Match!AA9=\"X\",1,0)","v":0},{"$f":"IF(Match!AB9=\"X\",1,0)","v":0},{"$f":"IF(Match!AC9=\"X\",1,0)","v":0},{"$f":"IF(Match!AD9=\"X\",1,0)","v":0},{"$f":"IF(Match!AE9=\"X\",1,0)","v":0},{"$f":"IF(Match!AF9=\"X\",1,0)","v":0},{"$f":"IF(Match!AG9=\"X\",1,0)","v":0},{"$f":"IF(Match!AH9=\"X\",1,0)","v":0},{"$f":"IF(Match!AI9=\"X\",1,0)","v":0},{"$f":"IF(Match!AJ9=\"X\",1,0)","v":0},{"$f":"IF(Match!AK9=\"X\",1,0)","v":0},{"$f":"IF(Match!AL9=\"X\",1,0)","v":0},0,null,null,{"$f":"AM73+I88+J88","v":0}]
[null,"E",{"$f":"IF(Match!C10=\"X\",1,0)","v":0},{"$f":"IF(Match!D10=\"X\",1,0)","v":0},{"$f":"IF(Match!E10=\"X\",1,0)","v":0},{"$f":"IF(Match!F10=\"X\",1,0)","v":0},{"$f":"IF(Match!G10=\"X\",1,0)","v":0},{"$f":"IF(Match!H10=\"X\",1,0)","v":0},{"$f":"IF(Match!I10=\"X\",1,0)","v":0},{"$f":"IF(Match!J10=\"X\",1,0)","v":0},{"$f":"IF(Match!K10=\"X\",1,0)","v":0},{"$f":"IF(Match!L10=\"X\",1,0)","v":0},{"$f":"IF(Match!M10=\"X\",1,0)","v":0},{"$f":"IF(Match!N10=\"X\",1,0)","v":0},{"$f":"IF(Match!O10=\"X\",1,0)","v":0},{"$f":"IF(Match!P10=\"X\",1,0)","v":0},{"$f":"IF(Match!Q10=\"X\",1,0)","v":0},{"$f":"IF(Match!R10=\"X\",1,0)","v":0},{"$f":"IF(Match!S10=\"X\",1,0)","v":0},{"$f":"IF(Match!T10=\"X\",1,0)","v":0},{"$f":"IF(Match!U10=\"X\",1,0)","v":0},{"$f":"IF(Match!V10=\"X\",1,0)","v":0},{"$f":"IF(Match!W10=\"X\",1,0)","v":0},{"$f":"IF(Match!X10=\"X\",1,0)","v":0},{"$f":"IF(Match!Y10=\"X\",1,0)","v":0},{"$f":"IF(Match!Z10=\"X\",1,0)","v":0},{"$f":"IF(Match!AA10=\"X\",1,0)","v":0},{"$f":"IF(Match!AB10=\"X\",1,0)","v":0},{"$f":"IF(Match!AC10=\"X\",1,0)","v":0},{"$f":"IF(Match!AD10=\"X\",1,0)","v":0},{"$f":"IF(Match!AE10=\"X\",1,0)","v":0},{"$f":"IF(Match!AF10=\"X\",1,0)","v":0},{"$f":"IF(Match!AG10=\"X\",1,0)","v":0},{"$f":"IF(Match!AH10=\"X\",1,0)","v":0},{"$f":"IF(Match!AI10=\"X\",1,0)","v":0},{"$f":"IF(Match!AJ10=\"X\",1,0)","v":0},{"$f":"IF(Match!AK10=\"X\",1,0)","v":0},{"$f":"IF(Match!AL10=\"X\",1,0)","v":0},0,null,null,{"$f":"AM74+K88+L88","v":0}]
[null,"F",{"$f":"IF(Match!C11=\"X\",1,0)","v":0},{"$f":"IF(Match!D11=\"X\",1,0)","v":0},{"$f":"IF(Match!E11=\"X\",1,0)","v":0},{"$f":"IF(Match!F11=\"X\",1,0)","v":0},{"$f":"IF(Match!G11=\"X\",1,0)","v":0},{"$f":"IF(Match!H11=\"X\",1,0)","v":0},{"$f":"IF(Match!I11=\"X\",1,0)","v":0},{"$f":"IF(Match!J11=\"X\",1,0)","v":0},{"$f":"IF(Match!K11=\"X\",1,0)","v":0},{"$f":"IF(Match!L11=\"X\",1,0)","v":0},{"$f":"IF(Match!M11=\"X\",1,0)","v":0},{"$f":"IF(Match!N11=\"X\",1,0)","v":0},{"$f":"IF(Match!O11=\"X\",1,0)","v":0},{"$f":"IF(Match!P11=\"X\",1,0)","v":0},{"$f":"IF(Match!Q11=\"X\",1,0)","v":0},{"$f":"IF(Match!R11=\"X\",1,0)","v":0},{"$f":"IF(Match!S11=\"X\",1,0)","v":0},{"$f":"IF(Match!T11=\"X\",1,0)","v":0},{"$f":"IF(Match!U11=\"X\",1,0)","v":0},{"$f":"IF(Match!V11=\"X\",1,0)","v":0},{"$f":"IF(Match!W11=\"X\",1,0)","v":0},{"$f":"IF(Match!X11=\"X\",1,0)","v":0},{"$f":"IF(Match!Y11=\"X\",1,0)","v":0},{"$f":"IF(Match!Z11=\"X\",1,0)","v":0},{"$f":"IF(Match!AA11=\"X\",1,0)","v":0},{"$f":"IF(Match!AB11=\"X\",1,0)","v":0},{"$f":"IF(Match!AC11=\"X\",1,0)","v":0},{"$f":"IF(Match!AD11=\"X\",1,0)","v":0},{"$f":"IF(Match!AE11=\"X\",1,0)","v":0},{"$f":"IF(Match!AF11=\"X\",1,0)","v":0},{"$f":"IF(Match!AG11=\"X\",1,0)","v":0},{"$f":"IF(Match!AH11=\"X\",1,0)","v":0},{"$f":"IF(Match!AI11=\"X\",1,0)","v":0},{"$f":"IF(Match!AJ11=\"X\",1,0)","v":0},{"$f":"IF(Match!AK11=\"X\",1,0)","v":0},{"$f":"IF(Match!AL11=\"X\",1,0)","v":0},0,null,null,{"$f":"AM75+M88+N88","v":0}]
[null,"G",{"$f":"IF(Match!C12=\"X\",1,0)","v":0},{"$f":"IF(Match!D12=\"X\",1,0)","v":0},{"$f":"IF(Match!E12=\"X\",1,0)","v":0},{"$f":"IF(Match!F12=\"X\",1,0)","v":0},{"$f":"IF(Match!G12=\"X\",1,0)","v":0},{"$f":"IF(Match!H12=\"X\",1,0)","v":0},{"$f":"IF(Match!I12=\"X\",1,0)","v":0},{"$f":"IF(Match!J12=\"X\",1,0)","v":0},{"$f":"IF(Match!K12=\"X\",1,0)","v":0},{"$f":"IF(Match!L12=\"X\",1,0)","v":0},{"$f":"IF(Match!M12=\"X\",1,0)","v":0},{"$f":"IF(Match!N12=\"X\",1,0)","v":0},{"$f":"IF(Match!O12=\"X\",1,0)","v":0},{"$f":"IF(Match!P12=\"X\",1,0)","v":0},{"$f":"IF(Match!Q12=\"X\",1,0)","v":0},{"$f":"IF(Match!R12=\"X\",1,0)","v":0},{"$f":"IF(Match!S12=\"X\",1,0)","v":0},{"$f":"IF(Match!T12=\"X\",1,0)","v":0},{"$f":"IF(Match!U12=\"X\",1,0)","v":0},{"$f":"IF(Match!V12=\"X\",1,0)","v":0},{"$f":"IF(Match!W12=\"X\",1,0)","v":0},{"$f":"IF(Match!X12=\"X\",1,0)","v":0},{"$f":"IF(Match!Y12=\"X\",1,0)","v":0},{"$f":"IF(Match!Z12=\"X\",1,0)","v":0},{"$f":"IF(Match!AA12=\"X\",1,0)","v":0},{"$f":"IF(Match!AB12=\"X\",1,0)","v":0},{"$f":"IF(Match!AC12=\"X\",1,0)","v":0},{"$f":"IF(Match!AD12=\"X\",1,0)","v":0},{"$f":"IF(Match!AE12=\"X\",1,0)","v":0},{"$f":"IF(Match!AF12=\"X\",1,0)","v":0},{"$f":"IF(Match!AG12=\"X\",1,0)","v":0},{"$f":"IF(Match!AH12=\"X\",1,0)","v":0},{"$f":"IF(Match!AI12=\"X\",1,0)","v":0},{"$f":"IF(Match!AJ12=\"X\",1,0)","v":0},{"$f":"IF(Match!AK12=\"X\",1,0)","v":0},{"$f":"IF(Match!AL12=\"X\",1,0)","v":0},0,null,null,{"$f":"AM76+O88+P88","v":0}]
[null,"H",{"$f":"IF(Match!C13=\"X\",1,0)","v":0},{"$f":"IF(Match!D13=\"X\",1,0)","v":0},{"$f":"IF(Match!E13=\"X\",1,0)","v":0},{"$f":"IF(Match!F13=\"X\",1,0)","v":0},{"$f":"IF(Match!G13=\"X\",1,0)","v":0},{"$f":"IF(Match!H13=\"X\",1,0)","v":0},{"$f":"IF(Match!I13=\"X\",1,0)","v":0},{"$f":"IF(Match!J13=\"X\",1,0)","v":0},{"$f":"IF(Match!K13=\"X\",1,0)","v":0},{"$f":"IF(Match!L13=\"X\",1,0)","v":0},{"$f":"IF(Match!M13=\"X\",1,0)","v":0},{"$f":"IF(Match!N13=\"X\",1,0)","v":0},{"$f":"IF(Match!O13=\"X\",1,0)","v":0},{"$f":"IF(Match!P13=\"X\",1,0)","v":0},{"$f":"IF(Match!Q13=\"X\",1,0)","v":0},{"$f":"IF(Match!R13=\"X\",1,0)","v":0},{"$f":"IF(Match!S13=\"X\",1,0)","v":0},{"$f":"IF(Match!T13=\"X\",1,0)","v":0},{"$f":"IF(Match!U13=\"X\",1,0)","v":0},{"$f":"IF(Match!V13=\"X\",1,0)","v":0},{"$f":"IF(Match!W13=\"X\",1,0)","v":0},{"$f":"IF(Match!X13=\"X\",1,0)","v":0},{"$f":"IF(Match!Y13=\"X\",1,0)","v":0},{"$f":"IF(Match!Z13=\"X\",1,0)","v":0},{"$f":"IF(Match!AA13=\"X\",1,0)","v":0},{"$f":"IF(Match!AB13=\"X\",1,0)","v":0},{"$f":"IF(Match!AC13=\"X\",1,0)","v":0},{"$f":"IF(Match!AD13=\"X\",1,0)","v":0},{"$f":"IF(Match!AE13=\"X\",1,0)","v":0},{"$f":"IF(Match!AF13=\"X\",1,0)","v":0},{"$f":"IF(Match!AG13=\"X\",1,0)","v":0},{"$f":"IF(Match!AH13=\"X\",1,0)","v":0},{"$f":"IF(Match!AI13=\"X\",1,0)","v":1},{"$f":"IF(Match!AJ13=\"X\",1,0)","v":1},{"$f":"IF(Match!AK13=\"X\",1,0)","v":0},{"$f":"IF(Match!AL13=\"X\",1,0)","v":0},2,null,null,{"$f":"AM77+Q88+R88","v":2}]
[null,"I",{"$f":"IF(Match!C14=\"X\",1,0)","v":0},{"$f":"IF(Match!D14=\"X\",1,0)","v":0},{"$f":"IF(Match!E14=\"X\",1,0)","v":0},{"$f":"IF(Match!F14=\"X\",1,0)","v":0},{"$f":"IF(Match!G14=\"X\",1,0)","v":0},{"$f":"IF(Match!H14=\"X\",1,0)","v":0},{"$f":"IF(Match!I14=\"X\",1,0)","v":0},{"$f":"IF(Match!J14=\"X\",1,0)","v":0},{"$f":"IF(Match!K14=\"X\",1,0)","v":0},{"$f":"IF(Match!L14=\"X\",1,0)","v":0},{"$f":"IF(Match!M14=\"X\",1,0)","v":0},{"$f":"IF(Match!N14=\"X\",1,0)","v":0},{"$f":"IF(Match!O14=\"X\",1,0)","v":0},{"$f":"IF(Match!P14=\"X\",1,0)","v":0},{"$f":"IF(Match!Q14=\"X\",1,0)","v":0},{"$f":"IF(Match!R14=\"X\",1,0)","v":0},{"$f":"IF(Match!S14=\"X\",1,0)","v":0},{"$f":"IF(Match!T14=\"X\",1,0)","v":0},{"$f":"IF(Match!U14=\"X\",1,0)","v":0},{"$f":"IF(Match!V14=\"X\",1,0)","v":0},{"$f":"IF(Match!W14=\"X\",1,0)","v":0},{"$f":"IF(Match!X14=\"X\",1,0)","v":0},{"$f":"IF(Match!Y14=\"X\",1,0)","v":0},{"$f":"IF(Match!Z14=\"X\",1,0)","v":0},{"$f":"IF(Match!AA14=\"X\",1,0)","v":0},{"$f":"IF(Match!AB14=\"X\",1,0)","v":0},{"$f":"IF(Match!AC14=\"X\",1,0)","v":0},{"$f":"IF(Match!AD14=\"X\",1,0)","v":0},{"$f":"IF(Match!AE14=\"X\",1,0)","v":0},{"$f":"IF(Match!AF14=\"X\",1,0)","v":0},{"$f":"IF(Match!AG14=\"X\",1,0)","v":0},{"$f":"IF(Match!AH14=\"X\",1,0)","v":0},{"$f":"IF(Match!AI14=\"X\",1,0)","v":0},{"$f":"IF(Match!AJ14=\"X\",1,0)","v":0},{"$f":"IF(Match!AK14=\"X\",1,0)","v":0},{"$f":"IF(Match!AL14=\"X\",1,0)","v":0},0,null,null,{"$f":"AM78+S88+T88","v":0}]
[null,"J",{"$f":"IF(Match!C15=\"X\",1,0)","v":0},{"$f":"IF(Match!D15=\"X\",1,0)","v":0},{"$f":"IF(Match!E15=\"X\",1,0)","v":0},{"$f":"IF(Match!F15=\"X\",1,0)","v":0},{"$f":"IF(Match!G15=\"X\",1,0)","v":0},{"$f":"IF(Match!H15=\"X\",1,0)","v":0},{"$f":"IF(Match!I15=\"X\",1,0)","v":0},{"$f":"IF(Match!J15=\"X\",1,0)","v":0},{"$f":"IF(Match!K15=\"X\",1,0)","v":0},{"$f":"IF(Match!L15=\"X\",1,0)","v":0},{"$f":"IF(Match!M15=\"X\",1,0)","v":0},{"$f":"IF(Match!N15=\"X\",1,0)","v":0},{"$f":"IF(Match!O15=\"X\",1,0)","v":0},{"$f":"IF(Match!P15=\"X\",1,0)","v":0},{"$f":"IF(Match!Q15=\"X\",1,0)","v":0},{"$f":"IF(Match!R15=\"X\",1,0)","v":0},{"$f":"IF(Match!S15=\"X\",1,0)","v":0},{"$f":"IF(Match!T15=\"X\",1,0)","v":0},{"$f":"IF(Match!U15=\"X\",1,0)","v":0},{"$f":"IF(Match!V15=\"X\",1,0)","v":0},{"$f":"IF(Match!W15=\"X\",1,0)","v":0},{"$f":"IF(Match!X15=\"X\",1,0)","v":0},{"$f":"IF(Match!Y15=\"X\",1,0)","v":0},{"$f":"IF(Match!Z15=\"X\",1,0)","v":0},{"$f":"IF(Match!AA15=\"X\",1,0)","v":0},{"$f":"IF(Match!AB15=\"X\",1,0)","v":0},{"$f":"IF(Match!AC15=\"X\",1,0)","v":0},{"$f":"IF(Match!AD15=\"X\",1,0)","v":0},{"$f":"IF(Match!AE15=\"X\",1,0)","v":0},{"$f":"IF(Match!AF15=\"X\",1,0)","v":0},{"$f":"IF(Match!AG15=\"X\",1,0)","v":0},{"$f":"IF(Match!AH15=\"X\",1,0)","v":0},{"$f":"IF(Match!AI15=\"X\",1,0)","v":0},{"$f":"IF(Match!AJ15=\"X\",1,0)","v":0},{"$f":"IF(Match!AK15=\"X\",1,0)","v":0},{"$f":"IF(Match!AL15=\"X\",1,0)","v":0},0,null,null,{"$f":"AM79+U88+V88","v":0}]
[null,"K",{"$f":"IF(Match!C16=\"X\",1,0)","v":0},{"$f":"IF(Match!D16=\"X\",1,0)","v":0},{"$f":"IF(Match!E16=\"X\",1,0)","v":0},{"$f":"IF(Match!F16=\"X\",1,0)","v":0},{"$f":"IF(Match!G16=\"X\",1,0)","v":0},{"$f":"IF(Match!H16=\"X\",1,0)","v":0},{"$f":"IF(Match!I16=\"X\",1,0)","v":0},{"$f":"IF(Match!J16=\"X\",1,0)","v":0},{"$f":"IF(Match!K16=\"X\",1,0)","v":0},{"$f":"IF(Match!L16=\"X\",1,0)","v":0},{"$f":"IF(Match!M16=\"X\",1,0)","v":0},{"$f":"IF(Match!N16=\"X\",1,0)","v":0},{"$f":"IF(Match!O16=\"X\",1,0)","v":0},{"$f":"IF(Match!P16=\"X\",1,0)","v":0},{"$f":"IF(Match!Q16=\"X\",1,0)","v":0},{"$f":"IF(Match!R16=\"X\",1,0)","v":0},{"$f":"IF(Match!S16=\"X\",1,0)","v":0},{"$f":"IF(Match!T16=\"X\",1,0)","v":0},{"$f":"IF(Match!U16=\"X\",1,0)","v":0},{"$f":"IF(Match!V16=\"X\",1,0)","v":0},{"$f":"IF(Match!W16=\"X\",1,0)","v":0},{"$f":"IF(Match!X16=\"X\",1,0)","v":0},{"$f":"IF(Match!Y16=\"X\",1,0)","v":0},{"$f":"IF(Match!Z16=\"X\",1,0)","v":0},{"$f":"IF(Match!AA16=\"X\",1,0)","v":0},{"$f":"IF(Match!AB16=\"X\",1,0)","v":0},{"$f":"IF(Match!AC16=\"X\",1,0)","v":0},{"$f":"IF(Match!AD16=\"X\",1,0)","v":0},{"$f":"IF(Match!AE16=\"X\",1,0)","v":0},{"$f":"IF(Match!AF16=\"X\",1,0)","v":0},{"$f":"IF(Match!AG16=\"X\",1,0)","v":0},{"$f":"IF(Match!AH16=\"X\",1,0)","v":0},{"$f":"IF(Match!AI16=\"X\",1,0)","v":0},{"$f":"IF(Match!AJ16=\"X\",1,0)","v":0},{"$f":"IF(Match!AK16=\"X\",1,0)","v":0},{"$f":"IF(Match!AL16=\"X\",1,0)","v":0},0,null,null,{"$f":"AM80+W88+X88","v":0}]
[null,"L",{"$f":"IF(Match!C17=\"X\",1,0)","v":0},{"$f":"IF(Match!D17=\"X\",1,0)","v":0},{"$f":"IF(Match!E17=\"X\",1,0)","v":0},{"$f":"IF(Match!F17=\"X\",1,0)","v":0},{"$f":"IF(Match!G17=\"X\",1,0)","v":0},{"$f":"IF(Match!H17=\"X\",1,0)","v":0},{"$f":"IF(Match!I17=\"X\",1,0)","v":0},{"$f":"IF(Match!J17=\"X\",1,0)","v":0},{"$f":"IF(Match!K17=\"X\",1,0)","v":0},{"$f":"IF(Match!L17=\"X\",1,0)","v":0},{"$f":"IF(Match!M17=\"X\",1,0)","v":0},{"$f":"IF(Match!N17=\"X\",1,0)","v":0},{"$f":"IF(Match!O17=\"X\",1,0)","v":0},{"$f":"IF(Match!P17=\"X\",1,0)","v":0},{"$f":"IF(Match!Q17=\"X\",1,0)","v":0},{"$f":"IF(Match!R17=\"X\",1,0)","v":0},{"$f":"IF(Match!S17=\"X\",1,0)","v":0},{"$f":"IF(Match!T17=\"X\",1,0)","v":0},{"$f":"IF(Match!U17=\"X\",1,0)","v":0},{"$f":"IF(Match!V17=\"X\",1,0)","v":0},{"$f":"IF(Match!W17=\"X\",1,0)","v":0},{"$f":"IF(Match!X17=\"X\",1,0)","v":0},{"$f":"IF(Match!Y17=\"X\",1,0)","v":0},{"$f":"IF(Match!Z17=\"X\",1,0)","v":0},{"$f":"IF(Match!AA17=\"X\",1,0)","v":0},{"$f":"IF(Match!AB17=\"X\",1,0)","v":0},{"$f":"IF(Match!AC17=\"X\",1,0)","v":0},{"$f":"IF(Match!AD17=\"X\",1,0)","v":0},{"$f":"IF(Match!AE17=\"X\",1,0)","v":0},{"$f":"IF(Match!AF17=\"X\",1,0)","v":0},{"$f":"IF(Match!AG17=\"X\",1,0)","v":0},{"$f":"IF(Match!AH17=\"X\",1,0)","v":0},{"$f":"IF(Match!AI17=\"X\",1,0)","v":0},{"$f":"IF(Match!AJ17=\"X\",1,0)","v":0},{"$f":"IF(Match!AK17=\"X\",1,0)","v":0},{"$f":"IF(Match!AL17=\"X\",1,0)","v":0},0,null,null,{"$f":"AM81+Y88+Z88","v":0}]
[null,"M",{"$f":"IF(Match!C18=\"X\",1,0)","v":0},{"$f":"IF(Match!D18=\"X\",1,0)","v":0},{"$f":"IF(Match!E18=\"X\",1,0)","v":0},{"$f":"IF(Match!F18=\"X\",1,0)","v":0},{"$f":"IF(Match!G18=\"X\",1,0)","v":0},{"$f":"IF(Match!H18=\"X\",1,0)","v":0},{"$f":"IF(Match!I18=\"X\",1,0)","v":0},{"$f":"IF(Match!J18=\"X\",1,0)","v":0},{"$f":"IF(Match!K18=\"X\",1,0)","v":0},{"$f":"IF(Match!L18=\"X\",1,0)","v":0},{"$f":"IF(Match!M18=\"X\",1,0)","v":0},{"$f":"IF(Match!N18=\"X\",1,0)","v":0},{"$f":"IF(Match!O18=\"X\",1,0)","v":0},{"$f":"IF(Match!P18=\"X\",1,0)","v":0},{"$f":"IF(Match!Q18=\"X\",1,0)","v":0},{"$f":"IF(Match!R18=\"X\",1,0)","v":0},{"$f":"IF(Match!S18=\"X\",1,0)","v":0},{"$f":"IF(Match!T18=\"X\",1,0)","v":0},{"$f":"IF(Match!U18=\"X\",1,0)","v":0},{"$f":"IF(Match!V18=\"X\",1,0)","v":0},{"$f":"IF(Match!W18=\"X\",1,0)","v":0},{"$f":"IF(Match!X18=\"X\",1,0)","v":0},{"$f":"IF(Match!Y18=\"X\",1,0)","v":0},{"$f":"IF(Match!Z18=\"X\",1,0)","v":0},{"$f":"IF(Match!AA18=\"X\",1,0)","v":0},{"$f":"IF(Match!AB18=\"X\",1,0)","v":0},{"$f":"IF(Match!AC18=\"X\",1,0)","v":0},{"$f":"IF(Match!AD18=\"X\",1,0)","v":0},{"$f":"IF(Match!AE18=\"X\",1,0)","v":0},{"$f":"IF(Match!AF18=\"X\",1,0)","v":0},{"$f":"IF(Match!AG18=\"X\",1,0)","v":0},{"$f":"IF(Match!AH18=\"X\",1,0)","v":0},{"$f":"IF(Match!AI18=\"X\",1,0)","v":0},{"$f":"IF(Match!AJ18=\"X\",1,0)","v":0},{"$f":"IF(Match!AK18=\"X\",1,0)","v":0},{"$f":"IF(Match!AL18=\"X\",1,0)","v":0},0,null,null,{"$f":"AM82+AA88+AB88","v":0}]
[null,"N",{"$f":"IF(Match!C19=\"X\",1,0)","v":0},{"$f":"IF(Match!D19=\"X\",1,0)","v":0},{"$f":"IF(Match!E19=\"X\",1,0)","v":0},{"$f":"IF(Match!F19=\"X\",1,0)","v":0},{"$f":"IF(Match!G19=\"X\",1,0)","v":0},{"$f":"IF(Match!H19=\"X\",1,0)","v":0},{"$f":"IF(Match!I19=\"X\",1,0)","v":0},{"$f":"IF(Match!J19=\"X\",1,0)","v":0},{"$f":"IF(Match!K19=\"X\",1,0)","v":0},{"$f":"IF(Match!L19=\"X\",1,0)","v":0},{"$f":"IF(Match!M19=\"X\",1,0)","v":0},{"$f":"IF(Match!N19=\"X\",1,0)","v":0},{"$f":"IF(Match!O19=\"X\",1,0)","v":0},{"$f":"IF(Match!P19=\"X\",1,0)","v":0},{"$f":"IF(Match!Q19=\"X\",1,0)","v":0},{"$f":"IF(Match!R19=\"X\",1,0)","v":0},{"$f":"IF(Match!S19=\"X\",1,0)","v":0},{"$f":"IF(Match!T19=\"X\",1,0)","v":0},{"$f":"IF(Match!U19=\"X\",1,0)","v":0},{"$f":"IF(Match!V19=\"X\",1,0)","v":0},{"$f":"IF(Match!W19=\"X\",1,0)","v":0},{"$f":"IF(Match!X19=\"X\",1,0)","v":0},{"$f":"IF(Match!Y19=\"X\",1,0)","v":0},{"$f":"IF(Match!Z19=\"X\",1,0)","v":0},{"$f":"IF(Match!AA19=\"X\",1,0)","v":0},{"$f":"IF(Match!AB19=\"X\",1,0)","v":0},{"$f":"IF(Match!AC19=\"X\",1,0)","v":0},{"$f":"IF(Match!AD19=\"X\",1,0)","v":0},{"$f":"IF(Match!AE19=\"X\",1,0)","v":0},{"$f":"IF(Match!AF19=\"X\",1,0)","v":0},{"$f":"IF(Match!AG19=\"X\",1,0)","v":0},{"$f":"IF(Match!AH19=\"X\",1,0)","v":0},{"$f":"IF(Match!AI19=\"X\",1,0)","v":0},{"$f":"IF(Match!AJ19=\"X\",1,0)","v":0},{"$f":"IF(Match!AK19=\"X\",1,0)","v":0},{"$f":"IF(Match!AL19=\"X\",1,0)","v":0},0,null,null,{"$f":"AM83+AC88+AD88","v":0}]
[null,"O",{"$f":"IF(Match!C20=\"X\",1,0)","v":0},{"$f":"IF(Match!D20=\"X\",1,0)","v":0},{"$f":"IF(Match!E20=\"X\",1,0)","v":0},{"$f":"IF(Match!F20=\"X\",1,0)","v":0},{"$f":"IF(Match!G20=\"X\",1,0)","v":0},{"$f":"IF(Match!H20=\"X\",1,0)","v":0},{"$f":"IF(Match!I20=\"X\",1,0)","v":0},{"$f":"IF(Match!J20=\"X\",1,0)","v":0},{"$f":"IF(Match!K20=\"X\",1,0)","v":0},{"$f":"IF(Match!L20=\"X\",1,0)","v":0},{"$f":"IF(Match!M20=\"X\",1,0)","v":0},{"$f":"IF(Match!N20=\"X\",1,0)","v":0},{"$f":"IF(Match!O20=\"X\",1,0)","v":0},{"$f":"IF(Match!P20=\"X\",1,0)","v":0},{"$f":"IF(Match!Q20=\"X\",1,0)","v":0},{"$f":"IF(Match!R20=\"X\",1,0)","v":0},{"$f":"IF(Match!S20=\"X\",1,0)","v":0},{"$f":"IF(Match!T20=\"X\",1,0)","v":0},{"$f":"IF(Match!U20=\"X\",1,0)","v":0},{"$f":"IF(Match!V20=\"X\",1,0)","v":0},{"$f":"IF(Match!W20=\"X\",1,0)","v":0},{"$f":"IF(Match!X20=\"X\",1,0)","v":0},{"$f":"IF(Match!Y20=\"X\",1,0)","v":0},{"$f":"IF(Match!Z20=\"X\",1,0)","v":0},{"$f":"IF(Match!AA20=\"X\",1,0)","v":0},{"$f":"IF(Match!AB20=\"X\",1,0)","v":0},{"$f":"IF(Match!AC20=\"X\",1,0)","v":0},{"$f":"IF(Match!AD20=\"X\",1,0)","v":0},{"$f":"IF(Match!AE20=\"X\",1,0)","v":0},{"$f":"IF(Match!AF20=\"X\",1,0)","v":0},{"$f":"IF(Match!AG20=\"X\",1,0)","v":0},{"$f":"IF(Match!AH20=\"X\",1,0)","v":0},{"$f":"IF(Match!AI20=\"X\",1,0)","v":0},{"$f":"IF(Match!AJ20=\"X\",1,0)","v":0},{"$f":"IF(Match!AK20=\"X\",1,0)","v":0},{"$f":"IF(Match!AL20=\"X\",1,0)","v":0},0,null,null,{"$f":"AM84+AE88+AF88","v":2}]
[null,"P",{"$f":"IF(Match!C21=\"X\",1,0)","v":0},{"$f":"IF(Match!D21=\"X\",1,0)","v":0},{"$f":"IF(Match!E21=\"X\",1,0)","v":0},{"$f":"IF(Match!F21=\"X\",1,0)","v":0},{"$f":"IF(Match!G21=\"X\",1,0)","v":0},{"$f":"IF(Match!H21=\"X\",1,0)","v":0},{"$f":"IF(Match!I21=\"X\",1,0)","v":0},{"$f":"IF(Match!J21=\"X\",1,0)","v":0},{"$f":"IF(Match!K21=\"X\",1,0)","v":0},{"$f":"IF(Match!L21=\"X\",1,0)","v":0},{"$f":"IF(Match!M21=\"X\",1,0)","v":0},{"$f":"IF(Match!N21=\"X\",1,0)","v":0},{"$f":"IF(Match!O21=\"X\",1,0)","v":0},{"$f":"IF(Match!P21=\"X\",1,0)","v":0},{"$f":"IF(Match!Q21=\"X\",1,0)","v":0},{"$f":"IF(Match!R21=\"X\",1,0)","v":0},{"$f":"IF(Match!S21=\"X\",1,0)","v":0},{"$f":"IF(Match!T21=\"X\",1,0)","v":0},{"$f":"IF(Match!U21=\"X\",1,0)","v":0},{"$f":"IF(Match!V21=\"X\",1,0)","v":0},{"$f":"IF(Match!W21=\"X\",1,0)","v":0},{"$f":"IF(Match!X21=\"X\",1,0)","v":0},{"$f":"IF(Match!Y21=\"X\",1,0)","v":0},{"$f":"IF(Match!Z21=\"X\",1,0)","v":0},{"$f":"IF(Match!AA21=\"X\",1,0)","v":0},{"$f":"IF(Match!AB21=\"X\",1,0)","v":0},{"$f":"IF(Match!AC21=\"X\",1,0)","v":0},{"$f":"IF(Match!AD21=\"X\",1,0)","v":0},{"$f":"IF(Match!AE21=\"X\",1,0)","v":0},{"$f":"IF(Match!AF21=\"X\",1,0)","v":0},{"$f":"IF(Match!AG21=\"X\",1,0)","v":0},{"$f":"IF(Match!AH21=\"X\",1,0)","v":0},{"$f":"IF(Match!AI21=\"X\",1,0)","v":0},{"$f":"IF(Match!AJ21=\"X\",1,0)","v":0},{"$f":"IF(Match!AK21=\"X\",1,0)","v":0},{"$f":"IF(Match!AL21=\"X\",1,0)","v":0},0,null,null,{"$f":"AM85+AG88+AH88","v":0}]
[null,"Q",{"$f":"IF(Match!C22=\"X\",1,0)","v":0},{"$f":"IF(Match!D22=\"X\",1,0)","v":0},{"$f":"IF(Match!E22=\"X\",1,0)","v":0},{"$f":"IF(Match!F22=\"X\",1,0)","v":0},{"$f":"IF(Match!G22=\"X\",1,0)","v":0},{"$f":"IF(Match!H22=\"X\",1,0)","v":0},{"$f":"IF(Match!I22=\"X\",1,0)","v":0},{"$f":"IF(Match!J22=\"X\",1,0)","v":0},{"$f":"IF(Match!K22=\"X\",1,0)","v":0},{"$f":"IF(Match!L22=\"X\",1,0)","v":0},{"$f":"IF(Match!M22=\"X\",1,0)","v":0},{"$f":"IF(Match!N22=\"X\",1,0)","v":0},{"$f":"IF(Match!O22=\"X\",1,0)","v":0},{"$f":"IF(Match!P22=\"X\",1,0)","v":0},{"$f":"IF(Match!Q22=\"X\",1,0)","v":0},{"$f":"IF(Match!R22=\"X\",1,0)","v":0},{"$f":"IF(Match!S22=\"X\",1,0)","v":0},{"$f":"IF(Match!T22=\"X\",1,0)","v":0},{"$f":"IF(Match!U22=\"X\",1,0)","v":0},{"$f":"IF(Match!V22=\"X\",1,0)","v":0},{"$f":"IF(Match!W22=\"X\",1,0)","v":0},{"$f":"IF(Match!X22=\"X\",1,0)","v":0},{"$f":"IF(Match!Y22=\"X\",1,0)","v":0},{"$f":"IF(Match!Z22=\"X\",1,0)","v":0},{"$f":"IF(Match!AA22=\"X\",1,0)","v":0},{"$f":"IF(Match!AB22=\"X\",1,0)","v":0},{"$f":"IF(Match!AC22=\"X\",1,0)","v":0},{"$f":"IF(Match!AD22=\"X\",1,0)","v":0},{"$f":"IF(Match!AE22=\"X\",1,0)","v":0},{"$f":"IF(Match!AF22=\"X\",1,0)","v":0},{"$f":"IF(Match!AG22=\"X\",1,0)","v":0},{"$f":"IF(Match!AH22=\"X\",1,0)","v":0},{"$f":"IF(Match!AI22=\"X\",1,0)","v":0},{"$f":"IF(Match!AJ22=\"X\",1,0)","v":0},{"$f":"IF(Match!AK22=\"X\",1,0)","v":0},{"$f":"IF(Match!AL22=\"X\",1,0)","v":0},0,null,null,{"$f":"AM86+AI88+AJ88","v":2}]
[null,"R",{"$f":"IF(Match!C23=\"X\",1,0)","v":0},{"$f":"IF(Match!D23=\"X\",1,0)","v":0},{"$f":"IF(Match!E23=\"X\",1,0)","v":0},{"$f":"IF(Match!F23=\"X\",1,0)","v":0},{"$f":"IF(Match!G23=\"X\",1,0)","v":0},{"$f":"IF(Match!H23=\"X\",1,0)","v":0},{"$f":"IF(Match!I23=\"X\",1,0)","v":0},{"$f":"IF(Match!J23=\"X\",1,0)","v":0},{"$f":"IF(Match!K23=\"X\",1,0)","v":0},{"$f":"IF(Match!L23=\"X\",1,0)","v":0},{"$f":"IF(Match!M23=\"X\",1,0)","v":0},{"$f":"IF(Match!N23=\"X\",1,0)","v":0},{"$f":"IF(Match!O23=\"X\",1,0)","v":0},{"$f":"IF(Match!P23=\"X\",1,0)","v":0},{"$f":"IF(Match!Q23=\"X\",1,0)","v":0},{"$f":"IF(Match!R23=\"X\",1,0)","v":0},{"$f":"IF(Match!S23=\"X\",1,0)","v":0},{"$f":"IF(Match!T23=\"X\",1,0)","v":0},{"$f":"IF(Match!U23=\"X\",1,0)","v":0},{"$f":"IF(Match!V23=\"X\",1,0)","v":0},{"$f":"IF(Match!W23=\"X\",1,0)","v":0},{"$f":"IF(Match!X23=\"X\",1,0)","v":0},{"$f":"IF(Match!Y23=\"X\",1,0)","v":0},{"$f":"IF(Match!Z23=\"X\",1,0)","v":0},{"$f":"IF(Match!AA23=\"X\",1,0)","v":0},{"$f":"IF(Match!AB23=\"X\",1,0)","v":0},{"$f":"IF(Match!AC23=\"X\",1,0)","v":0},{"$f":"IF(Match!AD23=\"X\",1,0)","v":0},{"$f":"IF(Match!AE23=\"X\",1,0)","v":0},{"$f":"IF(Match!AF23=\"X\",1,0)","v":0},{"$f":"IF(Match!AG23=\"X\",1,0)","v":0},{"$f":"IF(Match!AH23=\"X\",1,0)","v":0},{"$f":"IF(Match!AI23=\"X\",1,0)","v":0},{"$f":"IF(Match!AJ23=\"X\",1,0)","v":0},{"$f":"IF(Match!AK23=\"X\",1,0)","v":0},{"$f":"IF(Match!AL23=\"X\",1,0)","v":0},0,null,null,{"$f":"AM87+AK88+AL88","v":0}]
[null,null,{"$f":"SUM(C70:C87)","v":0},{"$f":"SUM(D70:D87)","v":0},0,0,0,0,0,0,0,0,0,0,0,0,0,0,0,0,0,0,0,0,0,0,0,0,0,0,1,1,0,0,1,1,0,0]
[]
[null,"未編賽事","A",null,"B",null,"C",null,"D",null,"E",null,"F",null,"G",null,"H",null,"I",null,"J",null,"K",null,"L",null,"M",null,"N",null,"O",null,"P",null,"Q",null,"R",null,null,null,"未編賽事"]
[null,"A",{"$f":"IF(Match!C6=\"?\",1,0)","v":0},{"$f":"IF(Match!D6=\"?\",1,0)","v":0},{"$f":"IF(Match!E6=\"?\",1,0)","v":0},{"$f":"IF(Match!F6=\"?\",1,0)","v":0},{"$f":"IF(Match!G6=\"?\",1,0)","v":0},{"$f":"IF(Match!H6=\"?\",1,0)","v":0},{"$f":"IF(Match!I6=\"?\",1,0)","v":0},{"$f":"IF(Match!J6=\"?\",1,0)","v":0},{"$f":"IF(Match!K6=\"?\",1,0)","v":0},{"$f":"IF(Match!L6=\"?\",1,0)","v":0},{"$f":"IF(Match!M6=\"?\",1,0)","v":0},{"$f":"IF(Match!N6=\"?\",1,0)","v":0},{"$f":"IF(Match!O6=\"?\",1,0)","v":0},{"$f":"IF(Match!P6=\"?\",1,0)","v":0},{"$f":"IF(Match!Q6=\"?\",1,0)","v":0},{"$f":"IF(Match!R6=\"?\",1,0)","v":0},{"$f":"IF(Match!S6=\"?\",1,0)","v":0},{"$f":"IF(Match!T6=\"?\",1,0)","v":0},{"$f":"IF(Match!U6=\"?\",1,0)","v":0},{"$f":"IF(Match!V6=\"?\",1,0)","v":0},{"$f":"IF(Match!W6=\"?\",1,0)","v":0},{"$f":"IF(Match!X6=\"?\",1,0)","v":0},{"$f":"IF(Match!Y6=\"?\",1,0)","v":0},{"$f":"IF(Match!Z6=\"?\",1,0)","v":0},{"$f":"IF(Match!AA6=\"?\",1,0)","v":0},{"$f":"IF(Match!AB6=\"?\",1,0)","v":0},{"$f":"IF(Match!AC6=\"?\",1,0)","v":0},{"$f":"IF(Match!AD6=\"?\",1,0)","v":0},{"$f":"IF(Match!AE6=\"?\",1,0)","v":0},{"$f":"IF(Match!AF6=\"?\",1,0)","v":0},{"$f":"IF(Match!AG6=\"?\",1,0)","v":0},{"$f":"IF(Match!AH6=\"?\",1,0)","v":0},{"$f":"IF(Match!AI6=\"?\",1,0)","v":0},{"$f":"IF(Match!AJ6=\"?\",1,0)","v":0},{"$f":"IF(Match!AK6=\"?\",1,0)","v":1},{"$f":"IF(Match!AL6=\"?\",1,0)","v":1},{"$f":"SUM(C91:AL91)","v":2},null,null,{"$f":"AM91+C109+D109","v":2}]
[null,"B",{"$f":"IF(Match!C7=\"?\",1,0)","v":0},{"$f":"IF(Match!D7=\"?\",1,0)","v":0},{"$f":"IF(Match!E7=\"?\",1,0)","v":0},{"$f":"IF(Match!F7=\"?\",1,0)","v":0},{"$f":"IF(Match!G7=\"?\",1,0)","v":0},{"$f":"IF(Match!H7=\"?\",1,0)","v":0},{"$f":"IF(Match!I7=\"?\",1,0)","v":0},{"$f":"IF(Match!J7=\"?\",1,0)","v":0},{"$f":"IF(Match!K7=\"?\",1,0)","v":0},{"$f":"IF(Match!L7=\"?\",1,0)","v":0},{"$f":"IF(Match!M7=\"?\",1,0)","v":0},{"$f":"IF(Match!N7=\"?\",1,0)","v":0},{"$f":"IF(Match!O7=\"?\",1,0)","v":0},{"$f":"IF(Match!P7=\"?\",1,0)","v":0},{"$f":"IF(Match!Q7=\"?\",1,0)","v":0},{"$f":"IF(Match!R7=\"?\",1,0)","v":0},{"$f":"IF(Match!S7=\"?\",1,0)","v":0},{"$f":"IF(Match!T7=\"?\",1,0)","v":0},{"$f":"IF(Match!U7=\"?\",1,0)","v":0},{"$f":"IF(Match!V7=\"?\",1,0)","v":0},{"$f":"IF(Match!W7=\"?\",1,0)","v":0},{"$f":"IF(Match!X7=\"?\",1,0)","v":0},{"$f":"IF(Match!Y7=\"?\",1,0)","v":0},{"$f":"IF(Match!Z7=\"?\",1,0)","v":0},{"$f":"IF(Match!AA7=\"?\",1,0)","v":0},{"$f":"IF(Match!AB7=\"?\",1,0)","v":0},{"$f":"IF(Match!AC7=\"?\",1,0)","v":0},{"$f":"IF(Match!AD7=\"?\",1,0)","v":0},{"$f":"IF(Match!AE7=\"?\",1,0)","v":0},{"$f":"IF(Match!AF7=\"?\",1,0)","v":0},{"$f":"IF(Match!AG7=\"?\",1,0)","v":0},{"$f":"IF(Match!AH7=\"?\",1,0)","v":0},{"$f":"IF(Match!AI7=\"?\",1,0)","v":0},{"$f":"IF(Match!AJ7=\"?\",1,0)","v":0},{"$f":"IF(Match!AK7=\"?\",1,0)","v":1},{"$f":"IF(Match!AL7=\"?\",1,0)","v":1},{"$f":"SUM(C92:AL92)","v":2},null,null,{"$f":"AM92+E109+F109","v":2}]
[null,"C",{"$f":"IF(Match!C8=\"?\",1,0)","v":0},{"$f":"IF(Match!D8=\"?\",1,0)","v":0},{"$f":"IF(Match!E8=\"?\",1,0)","v":0},{"$f":"IF(Match!F8=\"?\",1,0)","v":0},{"$f":"IF(Match!G8=\"?\",1,0)","v":0},{"$f":"IF(Match!H8=\"?\",1,0)","v":0},{"$f":"IF(Match!I8=\"?\",1,0)","v":0},{"$f":"IF(Match!J8=\"?\",1,0)","v":0},{"$f":"IF(Match!K8=\"?\",1,0)","v":0},{"$f":"IF(Match!L8=\"?\",1,0)","v":0},{"$f":"IF(Match!M8=\"?\",1,0)","v":0},{"$f":"IF(Match!N8=\"?\",1,0)","v":0},{"$f":"IF(Match!O8=\"?\",1,0)","v":0},{"$f":"IF(Match!P8=\"?\",1,0)","v":0},{"$f":"IF(Match!Q8=\"?\",1,0)","v":0},{"$f":"IF(Match!R8=\"?\",1,0)","v":0},{"$f":"IF(Match!S8=\"?\",1,0)","v":0},{"$f":"IF(Match!T8=\"?\",1,0)","v":0},{"$f":"IF(Match!U8=\"?\",1,0)","v":0},{"$f":"IF(Match!V8=\"?\",1,0)","v":0},{"$f":"IF(Match!W8=\"?\",1,0)","v":0},{"$f":"IF(Match!X8=\"?\",1,0)","v":0},{"$f":"IF(Match!Y8=\"?\",1,0)","v":0},{"$f":"IF(Match!Z8=\"?\",1,0)","v":0},{"$f":"IF(Match!AA8=\"?\",1,0)","v":0},{"$f":"IF(Match!AB8=\"?\",1,0)","v":0},{"$f":"IF(Match!AC8=\"?\",1,0)","v":0},{"$f":"IF(Match!AD8=\"?\",1,0)","v":0},{"$f":"IF(Match!AE8=\"?\",1,0)","v":0},{"$f":"IF(Match!AF8=\"?\",1,0)","v":0},{"$f":"IF(Match!AG8=\"?\",1,0)","v":0},{"$f":"IF(Match!AH8=\"?\",1,0)","v":0},{"$f":"IF(Match!AI8=\"?\",1,0)","v":0},{"$f":"IF(Match!AJ8=\"?\",1,0)","v":0},{"$f":"IF(Match!AK8=\"?\",1,0)","v":1},{"$f":"IF(Match!AL8=\"?\",1,0)","v":1},2,null,null,{"$f":"AM93+G109+H109","v":2}]
[null,"D",{"$f":"IF(Match!C9=\"?\",1,0)","v":0},{"$f":"IF(Match!D9=\"?\",1,0)","v":0},{"$f":"IF(Match!E9=\"?\",1,0)","v":0},{"$f":"IF(Match!F9=\"?\",1,0)","v":0},{"$f":"IF(Match!G9=\"?\",1,0)","v":0},{"$f":"IF(Match!H9=\"?\",1,0)","v":0},{"$f":"IF(Match!I9=\"?\",1,0)","v":0},{"$f":"IF(Match!J9=\"?\",1,0)","v":0},{"$f":"IF(Match!K9=\"?\",1,0)","v":0},{"$f":"IF(Match!L9=\"?\",1,0)","v":0},{"$f":"IF(Match!M9=\"?\",1,0)","v":0},{"$f":"IF(Match!N9=\"?\",1,0)","v":0},{"$f":"IF(Match!O9=\"?\",1,0)","v":0},{"$f":"IF(Match!P9=\"?\",1,0)","v":0},{"$f":"IF(Match!Q9=\"?\",1,0)","v":0},{"$f":"IF(Match!R9=\"?\",1,0)","v":0},{"$f":"IF(Match!S9=\"?\",1,0)","v":0},{"$f":"IF(Match!T9=\"?\",1,0)","v":0},{"$f":"IF(Match!U9=\"?\",1,0)","v":0},{"$f":"IF(Match!V9=\"?\",1,0)","v":0},{"$f":"IF(Match!W9=\"?\",1,0)","v":0},{"$f":"IF(Match!X9=\"?\",1,0)","v":0},{"$f":"IF(Match!Y9=\"?\",1,0)","v":0},{"$f":"IF(Match!Z9=\"?\",1,0)","v":0},{"$f":"IF(Match!AA9=\"?\",1,0)","v":0},{"$f":"IF(Match!AB9=\"?\",1,0)","v":0},{"$f":"IF(Match!AC9=\"?\",1,0)","v":0},{"$f":"IF(Match!AD9=\"?\",1,0)","v":0},{"$f":"IF(Match!AE9=\"?\",1,0)","v":0},{"$f":"IF(Match!AF9=\"?\",1,0)","v":0},{"$f":"IF(Match!AG9=\"?\",1,0)","v":0},{"$f":"IF(Match!AH9=\"?\",1,0)","v":0},{"$f":"IF(Match!AI9=\"?\",1,0)","v":0},{"$f":"IF(Match!AJ9=\"?\",1,0)","v":0},{"$f":"IF(Match!AK9=\"?\",1,0)","v":1},{"$f":"IF(Match!AL9=\"?\",1,0)","v":1},2,null,null,{"$f":"AM94+I109+J109","v":2}]
[null,"E",{"$f":"IF(Match!C10=\"?\",1,0)","v":0},{"$f":"IF(Match!D10=\"?\",1,0)","v":0},{"$f":"IF(Match!E10=\"?\",1,0)","v":0},{"$f":"IF(Match!F10=\"?\",1,0)","v":0},{"$f":"IF(Match!G10=\"?\",1,0)","v":0},{"$f":"IF(Match!H10=\"?\",1,0)","v":0},{"$f":"IF(Match!I10=\"?\",1,0)","v":0},{"$f":"IF(Match!J10=\"?\",1,0)","v":0},{"$f":"IF(Match!K10=\"?\",1,0)","v":0},{"$f":"IF(Match!L10=\"?\",1,0)","v":0},{"$f":"IF(Match!M10=\"?\",1,0)","v":0},{"$f":"IF(Match!N10=\"?\",1,0)","v":0},{"$f":"IF(Match!O10=\"?\",1,0)","v":0},{"$f":"IF(Match!P10=\"?\",1,0)","v":0},{"$f":"IF(Match!Q10=\"?\",1,0)","v":0},{"$f":"IF(Match!R10=\"?\",1,0)","v":0},{"$f":"IF(Match!S10=\"?\",1,0)","v":0},{"$f":"IF(Match!T10=\"?\",1,0)","v":0},{"$f":"IF(Match!U10=\"?\",1,0)","v":0},{"$f":"IF(Match!V10=\"?\",1,0)","v":0},{"$f":"IF(Match!W10=\"?\",1,0)","v":0},{"$f":"IF(Match!X10=\"?\",1,0)","v":0},{"$f":"IF(Match!Y10=\"?\",1,0)","v":0},{"$f":"IF(Match!Z10=\"?\",1,0)","v":0},{"$f":"IF(Match!AA10=\"?\",1,0)","v":0},{"$f":"IF(Match!AB10=\"?\",1,0)","v":0},{"$f":"IF(Match!AC10=\"?\",1,0)","v":0},{"$f":"IF(Match!AD10=\"?\",1,0)","v":0},{"$f":"IF(Match!AE10=\"?\",1,0)","v":0},{"$f":"IF(Match!AF10=\"?\",1,0)","v":0},{"$f":"IF(Match!AG10=\"?\",1,0)","v":0},{"$f":"IF(Match!AH10=\"?\",1,0)","v":0},{"$f":"IF(Match!AI10=\"?\",1,0)","v":0},{"$f":"IF(Match!AJ10=\"?\",1,0)","v":0},{"$f":"IF(Match!AK10=\"?\",1,0)","v":1},{"$f":"IF(Match!AL10=\"?\",1,0)","v":1},2,null,null,{"$f":"AM95+K109+L109","v":2}]
[null,"F",{"$f":"IF(Match!C11=\"?\",1,0)","v":0},{"$f":"IF(Match!D11=\"?\",1,0)","v":0},{"$f":"IF(Match!E11=\"?\",1,0)","v":0},{"$f":"IF(Match!F11=\"?\",1,0)","v":0},{"$f":"IF(Match!G11=\"?\",1,0)","v":0},{"$f":"IF(Match!H11=\"?\",1,0)","v":0},{"$f":"IF(Match!I11=\"?\",1,0)","v":0},{"$f":"IF(Match!J11=\"?\",1,0)","v":0},{"$f":"IF(Match!K11=\"?\",1,0)","v":0},{"$f":"IF(Match!L11=\"?\",1,0)","v":0},{"$f":"IF(Match!M11=\"?\",1,0)","v":0},{"$f":"IF(Match!N11=\"?\",1,0)","v":0},{"$f":"IF(Match!O11=\"?\",1,0)","v":0},{"$f":"IF(Match!P11=\"?\",1,0)","v":0},{"$f":"IF(Match!Q11=\"?\",1,0)","v":0},{"$f":"IF(Match!R11=\"?\",1,0)","v":0},{"$f":"IF(Match!S11=\"?\",1,0)","v":0},{"$f":"IF(Match!T11=\"?\",1,0)","v":0},{"$f":"IF(Match!U11=\"?\",1,0)","v":0},{"$f":"IF(Match!V11=\"?\",1,0)","v":0},{"$f":"IF(Match!W11=\"?\",1,0)","v":0},{"$f":"IF(Match!X11=\"?\",1,0)","v":0},{"$f":"IF(Match!Y11=\"?\",1,0)","v":0},{"$f":"IF(Match!Z11=\"?\",1,0)","v":0},{"$f":"IF(Match!AA11=\"?\",1,0)","v":0},{"$f":"IF(Match!AB11=\"?\",1,0)","v":0},{"$f":"IF(Match!AC11=\"?\",1,0)","v":0},{"$f":"IF(Match!AD11=\"?\",1,0)","v":0},{"$f":"IF(Match!AE11=\"?\",1,0)","v":0},{"$f":"IF(Match!AF11=\"?\",1,0)","v":0},{"$f":"IF(Match!AG11=\"?\",1,0)","v":0},{"$f":"IF(Match!AH11=\"?\",1,0)","v":0},{"$f":"IF(Match!AI11=\"?\",1,0)","v":0},{"$f":"IF(Match!AJ11=\"?\",1,0)","v":0},{"$f":"IF(Match!AK11=\"?\",1,0)","v":1},{"$f":"IF(Match!AL11=\"?\",1,0)","v":1},2,null,null,{"$f":"AM96+M109+N109","v":2}]
[null,"G",{"$f":"IF(Match!C12=\"?\",1,0)","v":0},{"$f":"IF(Match!D12=\"?\",1,0)","v":0},{"$f":"IF(Match!E12=\"?\",1,0)","v":0},{"$f":"IF(Match!F12=\"?\",1,0)","v":0},{"$f":"IF(Match!G12=\"?\",1,0)","v":0},{"$f":"IF(Match!H12=\"?\",1,0)","v":0},{"$f":"IF(Match!I12=\"?\",1,0)","v":0},{"$f":"IF(Match!J12=\"?\",1,0)","v":0},{"$f":"IF(Match!K12=\"?\",1,0)","v":0},{"$f":"IF(Match!L12=\"?\",1,0)","v":0},{"$f":"IF(Match!M12=\"?\",1,0)","v":0},{"$f":"IF(Match!N12=\"?\",1,0)","v":0},{"$f":"IF(Match!O12=\"?\",1,0)","v":0},{"$f":"IF(Match!P12=\"?\",1,0)","v":0},{"$f":"IF(Match!Q12=\"?\",1,0)","v":0},{"$f":"IF(Match!R12=\"?\",1,0)","v":0},{"$f":"IF(Match!S12=\"?\",1,0)","v":0},{"$f":"IF(Match!T12=\"?\",1,0)","v":0},{"$f":"IF(Match!U12=\"?\",1,0)","v":0},{"$f":"IF(Match!V12=\"?\",1,0)","v":0},{"$f":"IF(Match!W12=\"?\",1,0)","v":0},{"$f":"IF(Match!X12=\"?\",1,0)","v":0},{"$f":"IF(Match!Y12=\"?\",1,0)","v":0},{"$f":"IF(Match!Z12=\"?\",1,0)","v":0},{"$f":"IF(Match!AA12=\"?\",1,0)","v":0},{"$f":"IF(Match!AB12=\"?\",1,0)","v":0},{"$f":"IF(Match!AC12=\"?\",1,0)","v":0},{"$f":"IF(Match!AD12=\"?\",1,0)","v":0},{"$f":"IF(Match!AE12=\"?\",1,0)","v":0},{"$f":"IF(Match!AF12=\"?\",1,0)","v":0},{"$f":"IF(Match!AG12=\"?\",1,0)","v":0},{"$f":"IF(Match!AH12=\"?\",1,0)","v":0},{"$f":"IF(Match!AI12=\"?\",1,0)","v":0},{"$f":"IF(Match!AJ12=\"?\",1,0)","v":0},{"$f":"IF(Match!AK12=\"?\",1,0)","v":1},{"$f":"IF(Match!AL12=\"?\",1,0)","v":1},2,null,null,{"$f":"AM97+O109+P109","v":2}]
[null,"H",{"$f":"IF(Match!C13=\"?\",1,0)","v":0},{"$f":"IF(Match!D13=\"?\",1,0)","v":0},{"$f":"IF(Match!E13=\"?\",1,0)","v":0},{"$f":"IF(Match!F13=\"?\",1,0)","v":0},{"$f":"IF(Match!G13=\"?\",1,0)","v":0},{"$f":"IF(Match!H13=\"?\",1,0)","v":0},{"$f":"IF(Match!I13=\"?\",1,0)","v":0},{"$f":"IF(Match!J13=\"?\",1,0)","v":0},{"$f":"IF(Match!K13=\"?\",1,0)","v":0},{"$f":"IF(Match!L13=\"?\",1,0)","v":0},{"$f":"IF(Match!M13=\"?\",1,0)","v":0},{"$f":"IF(Match!N13=\"?\",1,0)","v":0},{"$f":"IF(Match!O13=\"?\",1,0)","v":0},{"$f":"IF(Match!P13=\"?\",1,0)","v":0},{"$f":"IF(Match!Q13=\"?\",1,0)","v":0},{"$f":"IF(Match!R13=\"?\",1,0)","v":0},{"$f":"IF(Match!S13=\"?\",1,0)","v":0},{"$f":"IF(Match!T13=\"?\",1,0)","v":0},{"$f":"IF(Match!U13=\"?\",1,0)","v":0},{"$f":"IF(Match!V13=\"?\",1,0)","v":0},{"$f":"IF(Match!W13=\"?\",1,0)","v":0},{"$f":"IF(Match!X13=\"?\",1,0)","v":0},{"$f":"IF(Match!Y13=\"?\",1,0)","v":0},{"$f":"IF(Match!Z13=\"?\",1,0)","v":0},{"$f":"IF(Match!AA13=\"?\",1,0)","v":0},{"$f":"IF(Match!AB13=\"?\",1,0)","v":0},{"$f":"IF(Match!AC13=\"?\",1,0)","v":0},{"$f":"IF(Match!AD13=\"?\",1,0)","v":0},{"$f":"IF(Match!AE13=\"?\",1,0)","v":0},{"$f":"IF(Match!AF13=\"?\",1,0)","v":0},{"$f":"IF(Match!AG13=\"?\",1,0)","v":0},{"$f":"IF(Match!AH13=\"?\",1,0)","v":0},{"$f":"IF(Match!AI13=\"?\",1,0)","v":0},{"$f":"IF(Match!AJ13=\"?\",1,0)","v":0},{"$f":"IF(Match!AK13=\"?\",1,0)","v":1},{"$f":"IF(Match!AL13=\"?\",1,0)","v":1},2,null,null,{"$f":"AM98+Q109+R109","v":2}]
[null,"I",{"$f":"IF(Match!C14=\"?\",1,0)","v":0},{"$f":"IF(Match!D14=\"?\",1,0)","v":0},{"$f":"IF(Match!E14=\"?\",1,0)","v":0},{"$f":"IF(Match!F14=\"?\",1,0)","v":0},{"$f":"IF(Match!G14=\"?\",1,0)","v":0},{"$f":"IF(Match!H14=\"?\",1,0)","v":0},{"$f":"IF(Match!I14=\"?\",1,0)","v":0},{"$f":"IF(Match!J14=\"?\",1,0)","v":0},{"$f":"IF(Match!K14=\"?\",1,0)","v":0},{"$f":"IF(Match!L14=\"?\",1,0)","v":0},{"$f":"IF(Match!M14=\"?\",1,0)","v":0},{"$f":"IF(Match!N14=\"?\",1,0)","v":0},{"$f":"IF(Match!O14=\"?\",1,0)","v":0},{"$f":"IF(Match!P14=\"?\",1,0)","v":0},{"$f":"IF(Match!Q14=\"?\",1,0)","v":0},{"$f":"IF(Match!R14=\"?\",1,0)","v":0},{"$f":"IF(Match!S14=\"?\",1,0)","v":0},{"$f":"IF(Match!T14=\"?\",1,0)","v":0},{"$f":"IF(Match!U14=\"?\",1,0)","v":0},{"$f":"IF(Match!V14=\"?\",1,0)","v":0},{"$f":"IF(Match!W14=\"?\",1,0)","v":0},{"$f":"IF(Match!X14=\"?\",1,0)","v":0},{"$f":"IF(Match!Y14=\"?\",1,0)","v":0},{"$f":"IF(Match!Z14=\"?\",1,0)","v":0},{"$f":"IF(Match!AA14=\"?\",1,0)","v":0},{"$f":"IF(Match!AB14=\"?\",1,0)","v":0},{"$f":"IF(Match!AC14=\"?\",1,0)","v":0},{"$f":"IF(Match!AD14=\"?\",1,0)","v":0},{"$f":"IF(Match!AE14=\"?\",1,0)","v":0},{"$f":"IF(Match!AF14=\"?\",1,0)","v":0},{"$f":"IF(Match!AG14=\"?\",1,0)","v":0},{"$f":"IF(Match!AH14=\"?\",1,0)","v":0},{"$f":"IF(Match!AI14=\"?\",1,0)","v":0},{"$f":"IF(Match!AJ14=\"?\",1,0)","v":0},{"$f":"IF(Match!AK14=\"?\",1,0)","v":1},{"$f":"IF(Match!AL14=\"?\",1,0)","v":1},2,null,null,{"$f":"AM99+S109+T109","v":2}]
[null,"J",{"$f":"IF(Match!C15=\"?\",1,0)","v":0},{"$f":"IF(Match!D15=\"?\",1,0)","v":0},{"$f":"IF(Match!E15=\"?\",1,0)","v":0},{"$f":"IF(Match!F15=\"?\",1,0)","v":0},{"$f":"IF(Match!G15=\"?\",1,0)","v":0},{"$f":"IF(Match!H15=\"?\",1,0)","v":0},{"$f":"IF(Match!I15=\"?\",1,0)","v":0},{"$f":"IF(Match!J15=\"?\",1,0)","v":0},{"$f":"IF(Match!K15=\"?\",1,0)","v":0},{"$f":"IF(Match!L15=\"?\",1,0)","v":0},{"$f":"IF(Match!M15=\"?\",1,0)","v":0},{"$f":"IF(Match!N15=\"?\",1,0)","v":0},{"$f":"IF(Match!O15=\"?\",1,0)","v":0},{"$f":"IF(Match!P15=\"?\",1,0)","v":0},{"$f":"IF(Match!Q15=\"?\",1,0)","v":0},{"$f":"IF(Match!R15=\"?\",1,0)","v":0},{"$f":"IF(Match!S15=\"?\",1,0)","v":0},{"$f":"IF(Match!T15=\"?\",1,0)","v":0},{"$f":"IF(Match!U15=\"?\",1,0)","v":0},{"$f":"IF(Match!V15=\"?\",1,0)","v":0},{"$f":"IF(Match!W15=\"?\",1,0)","v":0},{"$f":"IF(Match!X15=\"?\",1,0)","v":0},{"$f":"IF(Match!Y15=\"?\",1,0)","v":0},{"$f":"IF(Match!Z15=\"?\",1,0)","v":0},{"$f":"IF(Match!AA15=\"?\",1,0)","v":0},{"$f":"IF(Match!AB15=\"?\",1,0)","v":0},{"$f":"IF(Match!AC15=\"?\",1,0)","v":0},{"$f":"IF(Match!AD15=\"?\",1,0)","v":0},{"$f":"IF(Match!AE15=\"?\",1,0)","v":0},{"$f":"IF(Match!AF15=\"?\",1,0)","v":0},{"$f":"IF(Match!AG15=\"?\",1,0)","v":0},{"$f":"IF(Match!AH15=\"?\",1,0)","v":0},{"$f":"IF(Match!AI15=\"?\",1,0)","v":0},{"$f":"IF(Match!AJ15=\"?\",1,0)","v":0},{"$f":"IF(Match!AK15=\"?\",1,0)","v":1},{"$f":"IF(Match!AL15=\"?\",1,0)","v":1},2,null,null,{"$f":"AM100+U109+V109","v":2}]
[null,"K",{"$f":"IF(Match!C16=\"?\",1,0)","v":0},{"$f":"IF(Match!D16=\"?\",1,0)","v":0},{"$f":"IF(Match!E16=\"?\",1,0)","v":0},{"$f":"IF(Match!F16=\"?\",1,0)","v":0},{"$f":"IF(Match!G16=\"?\",1,0)","v":0},{"$f":"IF(Match!H16=\"?\",1,0)","v":0},{"$f":"IF(Match!I16=\"?\",1,0)","v":0},{"$f":"IF(Match!J16=\"?\",1,0)","v":0},{"$f":"IF(Match!K16=\"?\",1,0)","v":0},{"$f":"IF(Match!L16=\"?\",1,0)","v":0},{"$f":"IF(Match!M16=\"?\",1,0)","v":0},{"$f":"IF(Match!N16=\"?\",1,0)","v":0},{"$f":"IF(Match!O16=\"?\",1,0)","v":0},{"$f":"IF(Match!P16=\"?\",1,0)","v":0},{"$f":"IF(Match!Q16=\"?\",1,0)","v":0},{"$f":"IF(Match!R16=\"?\",1,0)","v":0},{"$f":"IF(Match!S16=\"?\",1,0)","v":0},{"$f":"IF(Match!T16=\"?\",1,0)","v":0},{"$f":"IF(Match!U16=\"?\",1,0)","v":0},{"$f":"IF(Match!V16=\"?\",1,0)","v":0},{"$f":"IF(Match!W16=\"?\",1,0)","v":0},{"$f":"IF(Match!X16=\"?\",1,0)","v":0},{"$f":"IF(Match!Y16=\"?\",1,0)","v":0},{"$f":"IF(Match!Z16=\"?\",1,0)","v":0},{"$f":"IF(Match!AA16=\"?\",1,0)","v":0},{"$f":"IF(Match!AB16=\"?\",1,0)","v":0},{"$f":"IF(Match!AC16=\"?\",1,0)","v":0},{"$f":"IF(Match!AD16=\"?\",1,0)","v":0},{"$f":"IF(Match!AE16=\"?\",1,0)","v":0},{"$f":"IF(Match!AF16=\"?\",1,0)","v":0},{"$f":"IF(Match!AG16=\"?\",1,0)","v":0},{"$f":"IF(Match!AH16=\"?\",1,0)","v":0},{"$f":"IF(Match!AI16=\"?\",1,0)","v":0},{"$f":"IF(Match!AJ16=\"?\",1,0)","v":0},{"$f":"IF(Match!AK16=\"?\",1,0)","v":1},{"$f":"IF(Match!AL16=\"?\",1,0)","v":1},2,null,null,{"$f":"AM101+W109+X109","v":2}]
[null,"L",{"$f":"IF(Match!C17=\"?\",1,0)","v":0},{"$f":"IF(Match!D17=\"?\",1,0)","v":0},{"$f":"IF(Match!E17=\"?\",1,0)","v":0},{"$f":"IF(Match!F17=\"?\",1,0)","v":0},{"$f":"IF(Match!G17=\"?\",1,0)","v":0},{"$f":"IF(Match!H17=\"?\",1,0)","v":0},{"$f":"IF(Match!I17=\"?\",1,0)","v":0},{"$f":"IF(Match!J17=\"?\",1,0)","v":0},{"$f":"IF(Match!K17=\"?\",1,0)","v":0},{"$f":"IF(Match!L17=\"?\",1,0)","v":0},{"$f":"IF(Match!M17=\"?\",1,0)","v":0},{"$f":"IF(Match!N17=\"?\",1,0)","v":0},{"$f":"IF(Match!O17=\"?\",1,0)","v":0},{"$f":"IF(Match!P17=\"?\",1,0)","v":0},{"$f":"IF(Match!Q17=\"?\",1,0)","v":0},{"$f":"IF(Match!R17=\"?\",1,0)","v":0},{"$f":"IF(Match!S17=\"?\",1,0)","v":0},{"$f":"IF(Match!T17=\"?\",1,0)","v":0},{"$f":"IF(Match!U17=\"?\",1,0)","v":0},{"$f":"IF(Match!V17=\"?\",1,0)","v":0},{"$f":"IF(Match!W17=\"?\",1,0)","v":0},{"$f":"IF(Match!X17=\"?\",1,0)","v":0},{"$f":"IF(Match!Y17=\"?\",1,0)","v":0},{"$f":"IF(Match!Z17=\"?\",1,0)","v":0},{"$f":"IF(Match!AA17=\"?\",1,0)","v":0},{"$f":"IF(Match!AB17=\"?\",1,0)","v":0},{"$f":"IF(Match!AC17=\"?\",1,0)","v":0},{"$f":"IF(Match!AD17=\"?\",1,0)","v":0},{"$f":"IF(Match!AE17=\"?\",1,0)","v":0},{"$f":"IF(Match!AF17=\"?\",1,0)","v":0},{"$f":"IF(Match!AG17=\"?\",1,0)","v":0},{"$f":"IF(Match!AH17=\"?\",1,0)","v":0},{"$f":"IF(Match!AI17=\"?\",1,0)","v":0},{"$f":"IF(Match!AJ17=\"?\",1,0)","v":0},{"$f":"IF(Match!AK17=\"?\",1,0)","v":1},{"$f":"IF(Match!AL17=\"?\",1,0)","v":1},2,null,null,{"$f":"AM102+Y109+Z109","v":2}]
[null,"M",{"$f":"IF(Match!C18=\"?\",1,0)","v":0},{"$f":"IF(Match!D18=\"?\",1,0)","v":0},{"$f":"IF(Match!E18=\"?\",1,0)","v":0},{"$f":"IF(Match!F18=\"?\",1,0)","v":0},{"$f":"IF(Match!G18=\"?\",1,0)","v":0},{"$f":"IF(Match!H18=\"?\",1,0)","v":0},{"$f":"IF(Match!I18=\"?\",1,0)","v":0},{"$f":"IF(Match!J18=\"?\",1,0)","v":0},{"$f":"IF(Match!K18=\"?\",1,0)","v":0},{"$f":"IF(Match!L18=\"?\",1,0)","v":0},{"$f":"IF(Match!M18=\"?\",1,0)","v":0},{"$f":"IF(Match!N18=\"?\",1,0)","v":0},{"$f":"IF(Match!O18=\"?\",1,0)","v":0},{"$f":"IF(Match!P18=\"?\",1,0)","v":0},{"$f":"IF(Match!Q18=\"?\",1,0)","v":0},{"$f":"IF(Match!R18=\"?\",1,0)","v":0},{"$f":"IF(Match!S18=\"?\",1,0)","v":0},{"$f":"IF(Match!T18=\"?\",1,0)","v":0},{"$f":"IF(Match!U18=\"?\",1,0)","v":0},{"$f":"IF(Match!V18=\"?\",1,0)","v":0},{"$f":"IF(Match!W18=\"?\",1,0)","v":0},{"$f":"IF(Match!X18=\"?\",1,0)","v":0},{"$f":"IF(Match!Y18=\"?\",1,0)","v":0},{"$f":"IF(Match!Z18=\"?\",1,0)","v":0},{"$f":"IF(Match!AA18=\"?\",1,0)","v":0},{"$f":"IF(Match!AB18=\"?\",1,0)","v":0},{"$f":"IF(Match!AC18=\"?\",1,0)","v":0},{"$f":"IF(Match!AD18=\"?\",1,0)","v":0},{"$f":"IF(Match!AE18=\"?\",1,0)","v":0},{"$f":"IF(Match!AF18=\"?\",1,0)","v":0},{"$f":"IF(Match!AG18=\"?\",1,0)","v":0},{"$f":"IF(Match!AH18=\"?\",1,0)","v":0},{"$f":"IF(Match!AI18=\"?\",1,0)","v":0},{"$f":"IF(Match!AJ18=\"?\",1,0)","v":0},{"$f":"IF(Match!AK18=\"?\",1,0)","v":1},{"$f":"IF(Match!AL18=\"?\",1,0)","v":1},2,null,null,{"$f":"AM103+AA109+AB109","v":2}]
[null,"N",{"$f":"IF(Match!C19=\"?\",1,0)","v":0},{"$f":"IF(Match!D19=\"?\",1,0)","v":0},{"$f":"IF(Match!E19=\"?\",1,0)","v":0},{"$f":"IF(Match!F19=\"?\",1,0)","v":0},{"$f":"IF(Match!G19=\"?\",1,0)","v":0},{"$f":"IF(Match!H19=\"?\",1,0)","v":0},{"$f":"IF(Match!I19=\"?\",1,0)","v":0},{"$f":"IF(Match!J19=\"?\",1,0)","v":0},{"$f":"IF(Match!K19=\"?\",1,0)","v":0},{"$f":"IF(Match!L19=\"?\",1,0)","v":0},{"$f":"IF(Match!M19=\"?\",1,0)","v":0},{"$f":"IF(Match!N19=\"?\",1,0)","v":0},{"$f":"IF(Match!O19=\"?\",1,0)","v":0},{"$f":"IF(Match!P19=\"?\",1,0)","v":0},{"$f":"IF(Match!Q19=\"?\",1,0)","v":0},{"$f":"IF(Match!R19=\"?\",1,0)","v":0},{"$f":"IF(Match!S19=\"?\",1,0)","v":0},{"$f":"IF(Match!T19=\"?\",1,0)","v":0},{"$f":"IF(Match!U19=\"?\",1,0)","v":0},{"$f":"IF(Match!V19=\"?\",1,0)","v":0},{"$f":"IF(Match!W19=\"?\",1,0)","v":0},{"$f":"IF(Match!X19=\"?\",1,0)","v":0},{"$f":"IF(Match!Y19=\"?\",1,0)","v":0},{"$f":"IF(Match!Z19=\"?\",1,0)","v":0},{"$f":"IF(Match!AA19=\"?\",1,0)","v":0},{"$f":"IF(Match!AB19=\"?\",1,0)","v":0},{"$f":"IF(Match!AC19=\"?\",1,0)","v":0},{"$f":"IF(Match!AD19=\"?\",1,0)","v":0},{"$f":"IF(Match!AE19=\"?\",1,0)","v":0},{"$f":"IF(Match!AF19=\"?\",1,0)","v":0},{"$f":"IF(Match!AG19=\"?\",1,0)","v":0},{"$f":"IF(Match!AH19=\"?\",1,0)","v":0},{"$f":"IF(Match!AI19=\"?\",1,0)","v":0},{"$f":"IF(Match!AJ19=\"?\",1,0)","v":0},{"$f":"IF(Match!AK19=\"?\",1,0)","v":1},{"$f":"IF(Match!AL19=\"?\",1,0)","v":1},2,null,null,{"$f":"AM104+AC109+AD109","v":2}]
[null,"O",{"$f":"IF(Match!C20=\"?\",1,0)","v":0},{"$f":"IF(Match!D20=\"?\",1,0)","v":0},{"$f":"IF(Match!E20=\"?\",1,0)","v":0},{"$f":"IF(Match!F20=\"?\",1,0)","v":0},{"$f":"IF(Match!G20=\"?\",1,0)","v":0},{"$f":"IF(Match!H20=\"?\",1,0)","v":0},{"$f":"IF(Match!I20=\"?\",1,0)","v":0},{"$f":"IF(Match!J20=\"?\",1,0)","v":0},{"$f":"IF(Match!K20=\"?\",1,0)","v":0},{"$f":"IF(Match!L20=\"?\",1,0)","v":0},{"$f":"IF(Match!M20=\"?\",1,0)","v":0},{"$f":"IF(Match!N20=\"?\",1,0)","v":0},{"$f":"IF(Match!O20=\"?\",1,0)","v":0},{"$f":"IF(Match!P20=\"?\",1,0)","v":0},{"$f":"IF(Match!Q20=\"?\",1,0)","v":0},{"$f":"IF(Match!R20=\"?\",1,0)","v":0},{"$f":"IF(Match!S20=\"?\",1,0)","v":0},{"$f":"IF(Match!T20=\"?\",1,0)","v":0},{"$f":"IF(Match!U20=\"?\",1,0)","v":0},{"$f":"IF(Match!V20=\"?\",1,0)","v":0},{"$f":"IF(Match!W20=\"?\",1,0)","v":0},{"$f":"IF(Match!X20=\"?\",1,0)","v":0},{"$f":"IF(Match!Y20=\"?\",1,0)","v":0},{"$f":"IF(Match!Z20=\"?\",1,0)","v":0},{"$f":"IF(Match!AA20=\"?\",1,0)","v":0},{"$f":"IF(Match!AB20=\"?\",1,0)","v":0},{"$f":"IF(Match!AC20=\"?\",1,0)","v":0},{"$f":"IF(Match!AD20=\"?\",1,0)","v":0},{"$f":"IF(Match!AE20=\"?\",1,0)","v":0},{"$f":"IF(Match!AF20=\"?\",1,0)","v":0},{"$f":"IF(Match!AG20=\"?\",1,0)","v":0},{"$f":"IF(Match!AH20=\"?\",1,0)","v":0},{"$f":"IF(Match!AI20=\"?\",1,0)","v":0},{"$f":"IF(Match!AJ20=\"?\",1,0)","v":0},{"$f":"IF(Match!AK20=\"?\",1,0)","v":1},{"$f":"IF(Match!AL20=\"?\",1,0)","v":1},2,null,null,{"$f":"AM105+AE109+AF109","v":2}]
[null,"P",{"$f":"IF(Match!C21=\"?\",1,0)","v":0},{"$f":"IF(Match!D21=\"?\",1,0)","v":0},{"$f":"IF(Match!E21=\"?\",1,0)","v":0},{"$f":"IF(Match!F21=\"?\",1,0)","v":0},{"$f":"IF(Match!G21=\"?\",1,0)","v":0},{"$f":"IF(Match!H21=\"?\",1,0)","v":0},{"$f":"IF(Match!I21=\"?\",1,0)","v":0},{"$f":"IF(Match!J21=\"?\",1,0)","v":0},{"$f":"IF(Match!K21=\"?\",1,0)","v":0},{"$f":"IF(Match!L21=\"?\",1,0)","v":0},{"$f":"IF(Match!M21=\"?\",1,0)","v":0},{"$f":"IF(Match!N21=\"?\",1,0)","v":0},{"$f":"IF(Match!O21=\"?\",1,0)","v":0},{"$f":"IF(Match!P21=\"?\",1,0)","v":0},{"$f":"IF(Match!Q21=\"?\",1,0)","v":0},{"$f":"IF(Match!R21=\"?\",1,0)","v":0},{"$f":"IF(Match!S21=\"?\",1,0)","v":0},{"$f":"IF(Match!T21=\"?\",1,0)","v":0},{"$f":"IF(Match!U21=\"?\",1,0)","v":0},{"$f":"IF(Match!V21=\"?\",1,0)","v":0},{"$f":"IF(Match!W21=\"?\",1,0)","v":0},{"$f":"IF(Match!X21=\"?\",1,0)","v":0},{"$f":"IF(Match!Y21=\"?\",1,0)","v":0},{"$f":"IF(Match!Z21=\"?\",1,0)","v":0},{"$f":"IF(Match!AA21=\"?\",1,0)","v":0},{"$f":"IF(Match!AB21=\"?\",1,0)","v":0},{"$f":"IF(Match!AC21=\"?\",1,0)","v":0},{"$f":"IF(Match!AD21=\"?\",1,0)","v":0},{"$f":"IF(Match!AE21=\"?\",1,0)","v":0},{"$f":"IF(Match!AF21=\"?\",1,0)","v":0},{"$f":"IF(Match!AG21=\"?\",1,0)","v":0},{"$f":"IF(Match!AH21=\"?\",1,0)","v":0},{"$f":"IF(Match!AI21=\"?\",1,0)","v":0},{"$f":"IF(Match!AJ21=\"?\",1,0)","v":0},{"$f":"IF(Match!AK21=\"?\",1,0)","v":1},{"$f":"IF(Match!AL21=\"?\",1,0)","v":1},2,null,null,{"$f":"AM106+AG109+AH109","v":2}]
[null,"Q",{"$f":"IF(Match!C22=\"?\",1,0)","v":0},{"$f":"IF(Match!D22=\"?\",1,0)","v":0},{"$f":"IF(Match!E22=\"?\",1,0)","v":0},{"$f":"IF(Match!F22=\"?\",1,0)","v":0},{"$f":"IF(Match!G22=\"?\",1,0)","v":0},{"$f":"IF(Match!H22=\"?\",1,0)","v":0},{"$f":"IF(Match!I22=\"?\",1,0)","v":0},{"$f":"IF(Match!J22=\"?\",1,0)","v":0},{"$f":"IF(Match!K22=\"?\",1,0)","v":0},{"$f":"IF(Match!L22=\"?\",1,0)","v":0},{"$f":"IF(Match!M22=\"?\",1,0)","v":0},{"$f":"IF(Match!N22=\"?\",1,0)","v":0},{"$f":"IF(Match!O22=\"?\",1,0)","v":0},{"$f":"IF(Match!P22=\"?\",1,0)","v":0},{"$f":"IF(Match!Q22=\"?\",1,0)","v":0},{"$f":"IF(Match!R22=\"?\",1,0)","v":0},{"$f":"IF(Match!S22=\"?\",1,0)","v":0},{"$f":"IF(Match!T22=\"?\",1,0)","v":0},{"$f":"IF(Match!U22=\"?\",1,0)","v":0},{"$f":"IF(Match!V22=\"?\",1,0)","v":0},{"$f":"IF(Match!W22=\"?\",1,0)","v":0},{"$f":"IF(Match!X22=\"?\",1,0)","v":0},{"$f":"IF(Match!Y22=\"?\",1,0)","v":0},{"$f":"IF(Match!Z22=\"?\",1,0)","v":0},{"$f":"IF(Match!AA22=\"?\",1,0)","v":0},{"$f":"IF(Match!AB22=\"?\",1,0)","v":0},{"$f":"IF(Match!AC22=\"?\",1,0)","v":0},{"$f":"IF(Match!AD22=\"?\",1,0)","v":0},{"$f":"IF(Match!AE22=\"?\",1,0)","v":0},{"$f":"IF(Match!AF22=\"?\",1,0)","v":0},{"$f":"IF(Match!AG22=\"?\",1,0)","v":0},{"$f":"IF(Match!AH22=\"?\",1,0)","v":0},{"$f":"IF(Match!AI22=\"?\",1,0)","v":0},{"$f":"IF(Match!AJ22=\"?\",1,0)","v":0},{"$f":"IF(Match!AK22=\"?\",1,0)","v":1},{"$f":"IF(Match!AL22=\"?\",1,0)","v":1},2,null,null,{"$f":"AM107+AI109+AJ109","v":2}]
[null,"R",{"$f":"IF(Match!C23=\"?\",1,0)","v":0},{"$f":"IF(Match!D23=\"?\",1,0)","v":0},{"$f":"IF(Match!E23=\"?\",1,0)","v":0},{"$f":"IF(Match!F23=\"?\",1,0)","v":0},{"$f":"IF(Match!G23=\"?\",1,0)","v":0},{"$f":"IF(Match!H23=\"?\",1,0)","v":0},{"$f":"IF(Match!I23=\"?\",1,0)","v":0},{"$f":"IF(Match!J23=\"?\",1,0)","v":0},{"$f":"IF(Match!K23=\"?\",1,0)","v":0},{"$f":"IF(Match!L23=\"?\",1,0)","v":0},{"$f":"IF(Match!M23=\"?\",1,0)","v":0},{"$f":"IF(Match!N23=\"?\",1,0)","v":0},{"$f":"IF(Match!O23=\"?\",1,0)","v":0},{"$f":"IF(Match!P23=\"?\",1,0)","v":0},{"$f":"IF(Match!Q23=\"?\",1,0)","v":0},{"$f":"IF(Match!R23=\"?\",1,0)","v":0},{"$f":"IF(Match!S23=\"?\",1,0)","v":0},{"$f":"IF(Match!T23=\"?\",1,0)","v":0},{"$f":"IF(Match!U23=\"?\",1,0)","v":0},{"$f":"IF(Match!V23=\"?\",1,0)","v":0},{"$f":"IF(Match!W23=\"?\",1,0)","v":0},{"$f":"IF(Match!X23=\"?\",1,0)","v":0},{"$f":"IF(Match!Y23=\"?\",1,0)","v":0},{"$f":"IF(Match!Z23=\"?\",1,0)","v":0},{"$f":"IF(Match!AA23=\"?\",1,0)","v":0},{"$f":"IF(Match!AB23=\"?\",1,0)","v":0},{"$f":"IF(Match!AC23=\"?\",1,0)","v":0},{"$f":"IF(Match!AD23=\"?\",1,0)","v":0},{"$f":"IF(Match!AE23=\"?\",1,0)","v":0},{"$f":"IF(Match!AF23=\"?\",1,0)","v":0},{"$f":"IF(Match!AG23=\"?\",1,0)","v":0},{"$f":"IF(Match!AH23=\"?\",1,0)","v":0},{"$f":"IF(Match!AI23=\"?\",1,0)","v":0},{"$f":"IF(Match!AJ23=\"?\",1,0)","v":0},{"$f":"IF(Match!AK23=\"?\",1,0)","v":0},{"$f":"IF(Match!AL23=\"?\",1,0)","v":0},0,null,null,{"$f":"AM108+AK109+AL109","v":34}]
[null,null,{"$f":"SUM(C91:C108)","v":0},{"$f":"SUM(D91:D108)","v":0},0,0,0,0,0,0,0,0,0,0,0,0,0,0,0,0,0,0,0,0,0,0,0,0,0,0,0,0,0,0,0,0,17,17]